BEGIN:VCALENDAR
VERSION:2.0
PRODID:-//Center for Autism and Related Disorders (CARD®) - ECPv6.15.20//NONSGML v1.0//EN
CALSCALE:GREGORIAN
METHOD:PUBLISH
X-WR-CALNAME:Center for Autism and Related Disorders (CARD®)
X-ORIGINAL-URL:https://centerforautism.com
X-WR-CALDESC:Events for Center for Autism and Related Disorders (CARD®)
REFRESH-INTERVAL;VALUE=DURATION:PT1H
X-Robots-Tag:noindex
X-PUBLISHED-TTL:PT1H
BEGIN:VTIMEZONE
TZID:America/Denver
BEGIN:DAYLIGHT
TZOFFSETFROM:-0700
TZOFFSETTO:-0600
TZNAME:MDT
DTSTART:20240310T090000
END:DAYLIGHT
BEGIN:STANDARD
TZOFFSETFROM:-0600
TZOFFSETTO:-0700
TZNAME:MST
DTSTART:20241103T080000
END:STANDARD
BEGIN:DAYLIGHT
TZOFFSETFROM:-0700
TZOFFSETTO:-0600
TZNAME:MDT
DTSTART:20250309T090000
END:DAYLIGHT
BEGIN:STANDARD
TZOFFSETFROM:-0600
TZOFFSETTO:-0700
TZNAME:MST
DTSTART:20251102T080000
END:STANDARD
BEGIN:DAYLIGHT
TZOFFSETFROM:-0700
TZOFFSETTO:-0600
TZNAME:MDT
DTSTART:20260308T090000
END:DAYLIGHT
BEGIN:STANDARD
TZOFFSETFROM:-0600
TZOFFSETTO:-0700
TZNAME:MST
DTSTART:20261101T080000
END:STANDARD
END:VTIMEZONE
BEGIN:VTIMEZONE
TZID:UTC
BEGIN:STANDARD
TZOFFSETFROM:+0000
TZOFFSETTO:+0000
TZNAME:UTC
DTSTART:20240101T000000
END:STANDARD
END:VTIMEZONE
BEGIN:VEVENT
DTSTART;TZID=America/Denver:20251007T090000
DTEND;TZID=America/Denver:20251007T110000
DTSTAMP:20260424T082109
CREATED:20250913T085933Z
LAST-MODIFIED:20250925T102039Z
UID:14723-1759827600-1759834800@centerforautism.com
SUMMARY:YMCA Encore Career Fair
DESCRIPTION:Meet CARD at the YMCA’s Encore Career Fair! \nLooking for a meaningful career where you can make a difference? Join us at the Encore Career Fair to learn about opportunities with CARD as a Behavior Technician \nTuesday\, October 7\, 2025\n9:00 AM\nYMCA @ 6972 S Vine St\, #366\, Centennial\, CO 80122 \nPaid training – no experience needed\nFlexible schedules\nGrowth opportunities in ABA therapy \nStop by our booth and discover how you can start a career that matters!
URL:https://centerforautism.com/event/ymca-encore-career-fair/
LOCATION:YMCA\, 6972 S Vine St\, #366\, Centennial\, CO\, 80122\, United States
CATEGORIES:Recruiting
ATTACH;FMTTYPE=image/png:https://centerforautism.com/wp-content/uploads/2025/09/2025.10.07-CO-YMCA-Encore-Career-Fair.png
END:VEVENT
BEGIN:VEVENT
DTSTART;TZID=UTC:20251007T100000
DTEND;TZID=UTC:20251007T130000
DTSTAMP:20260424T082109
CREATED:20251001T195227Z
LAST-MODIFIED:20251001T195227Z
UID:17662-1759831200-1759842000@centerforautism.com
SUMMARY:Madera Community College
DESCRIPTION:Madera\, we’re coming for you! \nCARD will be on campus Tuesday\, October 7\, 2025\, looking for awesome people to join our team as Behavior Technicians 💙 \n\nPaid training – no experience needed\nFlexible hours that fit your life\nGrow your career while making a real difference\n\n📍 Stop by our table and see how much fun a career at CARD can be!
URL:https://centerforautism.com/event/madera-community-college/
LOCATION:Madera Community College\, 30277 Ave 12\, Madera\, CA\, 93638\, United States
CATEGORIES:Recruiting
ATTACH;FMTTYPE=image/png:https://centerforautism.com/wp-content/uploads/2025/10/2025.10.07-CA-Madera-Madera-Community-College-Job-Fair.png
END:VEVENT
BEGIN:VEVENT
DTSTART;TZID=UTC:20251007T110000
DTEND;TZID=UTC:20251007T150000
DTSTAMP:20260424T082109
CREATED:20250930T013441Z
LAST-MODIFIED:20250930T014432Z
UID:17622-1759834800-1759849200@centerforautism.com
SUMMARY:CSUB Fall Career Expo
DESCRIPTION:Meet CARD at the CSUB Fall Career Expo! \nWe’re excited to connect with students at California State University\, Bakersfield to share career opportunities as a Behavior Technician! \nTuesday\, October 7\, 2025CSUB Fall Career Expo \n\nPaid training – no experience required\nFlexible schedules\nCareer growth in ABA therapy\n\nStop by our booth and discover how you can make a difference while building your career!
URL:https://centerforautism.com/event/csub-fall-career-expo/
LOCATION:California State University Bakersfield\, 9001 Stockdale Hwy\, Bakersfield\, CA\, 93311\, United States
CATEGORIES:Recruiting
ATTACH;FMTTYPE=image/jpeg:https://centerforautism.com/wp-content/uploads/2025/09/2025.10.07-CA-Bakersfield-CSUB-Fall-Career-Expo.jpg
END:VEVENT
END:VCALENDAR