BEGIN:VCALENDAR
VERSION:2.0
PRODID:-//Center for Autism and Related Disorders (CARD®) - ECPv6.15.20//NONSGML v1.0//EN
CALSCALE:GREGORIAN
METHOD:PUBLISH
X-WR-CALNAME:Center for Autism and Related Disorders (CARD®)
X-ORIGINAL-URL:https://centerforautism.com
X-WR-CALDESC:Events for Center for Autism and Related Disorders (CARD®)
REFRESH-INTERVAL;VALUE=DURATION:PT1H
X-Robots-Tag:noindex
X-PUBLISHED-TTL:PT1H
BEGIN:VTIMEZONE
TZID:UTC
BEGIN:STANDARD
TZOFFSETFROM:+0000
TZOFFSETTO:+0000
TZNAME:UTC
DTSTART:20240101T000000
END:STANDARD
END:VTIMEZONE
BEGIN:VEVENT
DTSTART;TZID=UTC:20251022T090000
DTEND;TZID=UTC:20251022T120000
DTSTAMP:20260424T082107
CREATED:20251011T042518Z
LAST-MODIFIED:20251011T042518Z
UID:17703-1761123600-1761134400@centerforautism.com
SUMMARY:Acadiana Opportunity Job Fair
DESCRIPTION:Ready for a career that makes an impact? CARD is at the Acadiana Opportunity Job Fair in Lafayette\, LA on October 22nd at 9 AM! \nStop by our booth\, meet the team\, and see how you can join the CARD family!
URL:https://centerforautism.com/event/acadiana-opportunity-job-fair/
LOCATION:Heymann Convention Center\, 1373 S College Rd\, Lafayette\, LA\, 70503\, United States
CATEGORIES:Recruiting
ATTACH;FMTTYPE=image/jpeg:https://centerforautism.com/wp-content/uploads/2025/10/2025.10.22-LA-Youngsville-Acadiana-Opportunity-Job-Fair.jpg
END:VEVENT
END:VCALENDAR