BEGIN:VCALENDAR
VERSION:2.0
PRODID:-//Center for Autism and Related Disorders (CARD®) - ECPv6.15.20//NONSGML v1.0//EN
CALSCALE:GREGORIAN
METHOD:PUBLISH
X-ORIGINAL-URL:https://centerforautism.com
X-WR-CALDESC:Events for Center for Autism and Related Disorders (CARD®)
REFRESH-INTERVAL;VALUE=DURATION:PT1H
X-Robots-Tag:noindex
X-PUBLISHED-TTL:PT1H
BEGIN:VTIMEZONE
TZID:UTC
BEGIN:STANDARD
TZOFFSETFROM:+0000
TZOFFSETTO:+0000
TZNAME:UTC
DTSTART:20240101T000000
END:STANDARD
END:VTIMEZONE
BEGIN:VEVENT
DTSTART;TZID=UTC:20251024T140000
DTEND;TZID=UTC:20251024T160000
DTSTAMP:20260424T082120
CREATED:20251020T213036Z
LAST-MODIFIED:20251020T213036Z
UID:17817-1761314400-1761321600@centerforautism.com
SUMMARY:Trunk or Treat at CARD San Bernardino
DESCRIPTION:CARD San Bernardino is hosting a special Trunk or Treat celebration exclusively for our patients and their families! It’s a night filled with fun\, connection\, and community\, honoring the incredible families we serve.
URL:https://centerforautism.com/event/trunk-or-treat-at-card-san-bernardino/
LOCATION:CARD San Bernardino\, 732 East Carnegie Drive Suite 100\, San Bernardino\, CA\, 92408\, United States
CATEGORIES:Community
ATTACH;FMTTYPE=image/jpeg:https://centerforautism.com/wp-content/uploads/2025/10/2025.10.24-CA-San-Bernardino-Trunk-or-Treat.jpg
END:VEVENT
BEGIN:VEVENT
DTSTART;TZID=UTC:20251024T153000
DTEND;TZID=UTC:20251024T173000
DTSTAMP:20260424T082120
CREATED:20251018T204808Z
LAST-MODIFIED:20251018T204808Z
UID:17789-1761319800-1761327000@centerforautism.com
SUMMARY:Trunk or Treat at CARD Simi Valley
DESCRIPTION:It’s Trunk or Treat time at CARD Simi Valley!\nJoin us on October 24th from 3:30–5:30 PM for some spooktacular fun!\nThis event is exclusive to our current CARD patients and families; we can’t wait to celebrate with you!
URL:https://centerforautism.com/event/trunk-or-treat-at-card-simi-valley/
LOCATION:CARD Simi Valley CA\, 3605 Alamo Street\, Suite 200\, Simi Valley\, CA\, 93063\, United States
CATEGORIES:Community
ATTACH;FMTTYPE=image/jpeg:https://centerforautism.com/wp-content/uploads/2025/10/2025.10.24-CA-Simi-Valley-Trunk-or-Treat.jpg
END:VEVENT
BEGIN:VEVENT
DTSTART;TZID=UTC:20251024T173000
DTEND;TZID=UTC:20251024T190000
DTSTAMP:20260424T082120
CREATED:20251020T191755Z
LAST-MODIFIED:20251020T191755Z
UID:17793-1761327000-1761332400@centerforautism.com
SUMMARY:Prospect Academy Annual Trunk or Treat
DESCRIPTION:We’re loading up the trunk with treats!\nJoin CARD at Prospect Academy’s Annual Trunk or Treat on Friday\, 10/24 at 5:30pm. \nCostumes welcome\, families encouraged\, smiles guaranteed.
URL:https://centerforautism.com/event/prospect-academy-annual-trunk-or-treat/
LOCATION:Prospect Academy\, 5592 Independence St.\, Arvada\, CO\, 80002\, United States
CATEGORIES:Community
ATTACH;FMTTYPE=image/jpeg:https://centerforautism.com/wp-content/uploads/2025/10/2025.10.24-CO-Lakewood-Trunk-or-Treat.jpg
END:VEVENT
END:VCALENDAR