BEGIN:VCALENDAR
VERSION:2.0
PRODID:-//Center for Autism and Related Disorders (CARD®) - ECPv6.15.20//NONSGML v1.0//EN
CALSCALE:GREGORIAN
METHOD:PUBLISH
X-ORIGINAL-URL:https://centerforautism.com
X-WR-CALDESC:Events for Center for Autism and Related Disorders (CARD®)
REFRESH-INTERVAL;VALUE=DURATION:PT1H
X-Robots-Tag:noindex
X-PUBLISHED-TTL:PT1H
BEGIN:VTIMEZONE
TZID:UTC
BEGIN:STANDARD
TZOFFSETFROM:+0000
TZOFFSETTO:+0000
TZNAME:UTC
DTSTART:20240101T000000
END:STANDARD
END:VTIMEZONE
BEGIN:VEVENT
DTSTART;TZID=UTC:20251108T100000
DTEND;TZID=UTC:20251108T140000
DTSTAMP:20260424T064111
CREATED:20251011T031812Z
LAST-MODIFIED:20251011T031812Z
UID:17699-1762596000-1762610400@centerforautism.com
SUMMARY:Empowering Abilities Resource Fair
DESCRIPTION:We’re gearing up for an amazing day at the Empowering Abilities Resource Fair in Menifee\, CA on November 8th at 10 AM! \nStop by our booth to say hi\, learn about CARD\, and meet our incredible team. 💙
URL:https://centerforautism.com/event/empowering-abilities-resource-fair/
LOCATION:Lazy Creek Recreation Center\, 26480 Lazy Creek Road\, Menifee\, CA\, 92586\, United States
CATEGORIES:Community
ATTACH;FMTTYPE=image/jpeg:https://centerforautism.com/wp-content/uploads/2025/10/2025.11.08-CA-Menifee-Empowering-Abilities-Resource-Fair.jpg
END:VEVENT
END:VCALENDAR