BEGIN:VCALENDAR
VERSION:2.0
PRODID:-//Center for Autism and Related Disorders (CARD®) - ECPv6.15.20//NONSGML v1.0//EN
CALSCALE:GREGORIAN
METHOD:PUBLISH
X-ORIGINAL-URL:https://centerforautism.com
X-WR-CALDESC:Events for Center for Autism and Related Disorders (CARD®)
REFRESH-INTERVAL;VALUE=DURATION:PT1H
X-Robots-Tag:noindex
X-PUBLISHED-TTL:PT1H
BEGIN:VTIMEZONE
TZID:UTC
BEGIN:STANDARD
TZOFFSETFROM:+0000
TZOFFSETTO:+0000
TZNAME:UTC
DTSTART:20250101T000000
END:STANDARD
END:VTIMEZONE
BEGIN:VEVENT
DTSTART;TZID=UTC:20260226T130000
DTEND;TZID=UTC:20260226T160000
DTSTAMP:20260424T004907
CREATED:20260210T163017Z
LAST-MODIFIED:20260210T163017Z
UID:19339-1772110800-1772121600@centerforautism.com
SUMMARY:WSU Vancouver Career & Internship Fair in Vancouver\, WA
DESCRIPTION:Looking for a career that makes a difference? 💙\nMeet the CARD team at the WSU Vancouver Career & Internship Fair on February 26\, 2026 from 1–4 PM and learn how you can make an impact with us. \nApply online at www.centerforautism.com/careers or reach out to our Recruiter at careers@centerforautism.com. \nSee you there!
URL:https://centerforautism.com/event/wsu-vancouver-career-internship-fair-in-vancouver-wa-2/
LOCATION:Washington State University\, 14204 NE Salmon Creek Ave\, Vancouver\, WA\, 98686\, United States
CATEGORIES:Recruiting
ATTACH;FMTTYPE=image/jpeg:https://centerforautism.com/wp-content/uploads/2026/02/2026.02.26-WA-Vancouver-WSU-Vancouver-Career-and-Internship-Fair.jpg
END:VEVENT
END:VCALENDAR