BEGIN:VCALENDAR
VERSION:2.0
PRODID:-//Center for Autism and Related Disorders (CARD®) - ECPv6.15.20//NONSGML v1.0//EN
CALSCALE:GREGORIAN
METHOD:PUBLISH
X-WR-CALNAME:Center for Autism and Related Disorders (CARD®)
X-ORIGINAL-URL:https://centerforautism.com
X-WR-CALDESC:Events for Center for Autism and Related Disorders (CARD®)
REFRESH-INTERVAL;VALUE=DURATION:PT1H
X-Robots-Tag:noindex
X-PUBLISHED-TTL:PT1H
BEGIN:VTIMEZONE
TZID:UTC
BEGIN:STANDARD
TZOFFSETFROM:+0000
TZOFFSETTO:+0000
TZNAME:UTC
DTSTART:20250101T000000
END:STANDARD
END:VTIMEZONE
BEGIN:VEVENT
DTSTART;TZID=UTC:20260228T090000
DTEND;TZID=UTC:20260228T120000
DTSTAMP:20260424T004708
CREATED:20260217T200815Z
LAST-MODIFIED:20260217T200815Z
UID:19621-1772269200-1772280000@centerforautism.com
SUMMARY:Ribbon Cutting & Open House in Phoenix\, AZ
DESCRIPTION:🚨 Phoenix\, AZ — You’re Invited! 🚨 \nWe’re celebrating our brand new CARD home and we’d love for you to join us! 🎉 \n✂️ Ribbon Cutting Ceremony with the Chamber of Commerce🗓 Saturday\, February 28th⏰ 9:00 AM \n🏡 Open House begins at 10:00 AMTour our beautiful new center\, learn more about our CARD programs\, and meet our incredible team members who make it all happen. 💙 \nCome celebrate\, connect\, and see how we’re supporting families right here in Phoenix. We can’t wait to welcome you!
URL:https://centerforautism.com/event/ribbon-cutting-open-house-in-phoenix-az/
LOCATION:CARD Phoenix AZ\, 2400 W Dunlap Ave\, Suite 124\, Phoenix\, AZ\, 85021\, United States
CATEGORIES:Open House
ATTACH;FMTTYPE=image/jpeg:https://centerforautism.com/wp-content/uploads/2026/02/2026.02.28-AZ-Phoenix-Open-House.jpg
END:VEVENT
END:VCALENDAR