BEGIN:VCALENDAR
VERSION:2.0
PRODID:-//Center for Autism and Related Disorders (CARD®) - ECPv6.15.20//NONSGML v1.0//EN
CALSCALE:GREGORIAN
METHOD:PUBLISH
X-WR-CALNAME:Center for Autism and Related Disorders (CARD®)
X-ORIGINAL-URL:https://centerforautism.com
X-WR-CALDESC:Events for Center for Autism and Related Disorders (CARD®)
REFRESH-INTERVAL;VALUE=DURATION:PT1H
X-Robots-Tag:noindex
X-PUBLISHED-TTL:PT1H
BEGIN:VTIMEZONE
TZID:UTC
BEGIN:STANDARD
TZOFFSETFROM:+0000
TZOFFSETTO:+0000
TZNAME:UTC
DTSTART:20250101T000000
END:STANDARD
END:VTIMEZONE
BEGIN:VEVENT
DTSTART;TZID=UTC:20260310T170000
DTEND;TZID=UTC:20260310T190000
DTSTAMP:20260424T004725
CREATED:20260217T192223Z
LAST-MODIFIED:20260217T192223Z
UID:19613-1773162000-1773169200@centerforautism.com
SUMMARY:Sensory Adventure Night in Cathedral City\, CA
DESCRIPTION:Join us for a night of fun and exploration! 🎉✨ \nCARD will be at Sensory Adventure Night at on Tuesday\, March 10th from 5–7 PM! \nCome stop by our table at this exciting Resource Fair\, connect with our team\, and learn more about how we support children and families through compassionate\, evidence-based ABA therapy. 💙 \nWe can’t wait to see you there!
URL:https://centerforautism.com/event/sensory-adventure-night-in-cathedral-city-ca/
LOCATION:Cathedral City Elementary\, 69300 Converse Rd\, Cathedral City\, CA\, 92234\, United States
CATEGORIES:Community
ATTACH;FMTTYPE=image/png:https://centerforautism.com/wp-content/uploads/2026/02/2026.03.10-CA-Palm-Desert-Sensory-Adventure-Night-scaled.png
END:VEVENT
END:VCALENDAR