BEGIN:VCALENDAR
VERSION:2.0
PRODID:-//Center for Autism and Related Disorders (CARD®) - ECPv6.15.20//NONSGML v1.0//EN
CALSCALE:GREGORIAN
METHOD:PUBLISH
X-WR-CALNAME:Center for Autism and Related Disorders (CARD®)
X-ORIGINAL-URL:https://centerforautism.com
X-WR-CALDESC:Events for Center for Autism and Related Disorders (CARD®)
REFRESH-INTERVAL;VALUE=DURATION:PT1H
X-Robots-Tag:noindex
X-PUBLISHED-TTL:PT1H
BEGIN:VTIMEZONE
TZID:UTC
BEGIN:STANDARD
TZOFFSETFROM:+0000
TZOFFSETTO:+0000
TZNAME:UTC
DTSTART:20250101T000000
END:STANDARD
END:VTIMEZONE
BEGIN:VEVENT
DTSTART;TZID=UTC:20260329T090000
DTEND;TZID=UTC:20260329T130000
DTSTAMP:20260424T004727
CREATED:20260210T191939Z
LAST-MODIFIED:20260210T191939Z
UID:19343-1774774800-1774789200@centerforautism.com
SUMMARY:Spring on the Farm - Fort Collins\, CO
DESCRIPTION:Join us for a spring celebration! 🌼 \nCARD will be at Spring on the Farm in Fort Collins\, CO on March 29 from 9am–1pm.We’re excited to connect with families and celebrate the season together.
URL:https://centerforautism.com/event/spring-on-the-farm-fort-collins-co/
LOCATION:Abby Care\, 600 N Sherwood St\, Fort Collins\, CO\, 80521\, United States
CATEGORIES:Community
ATTACH;FMTTYPE=image/jpeg:https://centerforautism.com/wp-content/uploads/2026/02/2026.03.29-CO-Fort-Collins-Spring-on-the-Farm.jpg
END:VEVENT
END:VCALENDAR