BEGIN:VCALENDAR
VERSION:2.0
PRODID:-//Center for Autism and Related Disorders (CARD®) - ECPv6.15.20//NONSGML v1.0//EN
CALSCALE:GREGORIAN
METHOD:PUBLISH
X-ORIGINAL-URL:https://centerforautism.com
X-WR-CALDESC:Events for Center for Autism and Related Disorders (CARD®)
REFRESH-INTERVAL;VALUE=DURATION:PT1H
X-Robots-Tag:noindex
X-PUBLISHED-TTL:PT1H
BEGIN:VTIMEZONE
TZID:UTC
BEGIN:STANDARD
TZOFFSETFROM:+0000
TZOFFSETTO:+0000
TZNAME:UTC
DTSTART:20250101T000000
END:STANDARD
END:VTIMEZONE
BEGIN:VEVENT
DTSTART;TZID=UTC:20260409T100000
DTEND;TZID=UTC:20260409T130000
DTSTAMP:20260423T231739
CREATED:20260318T180229Z
LAST-MODIFIED:20260318T180229Z
UID:19994-1775728800-1775739600@centerforautism.com
SUMMARY:Mt. San Jacinto Spring Job & Resource Fair - Menifee\, CA
DESCRIPTION:We’re hiring! 💼✨ \nJoin CARD at the Mt. San Jacinto Spring Job & Resource Fair and discover how YOU can make a difference. \n📅 Thursday\, April 9\, 2026\n⏰ 10:00 AM – 1:00 PM\n📍 28237 La Piedra Rd.\, Menifee\, CA \nStart your journey as a Behavior Technician with:\n✔ Paid\, world-class training\n✔ Career growth opportunities\n✔ Flexible schedules\n✔ Meaningful\, impactful work \nStop by and meet our team\, we’d love to connect! 💙
URL:https://centerforautism.com/event/mt-san-jacinto-spring-job-resource-fair-menifee-ca/
LOCATION:Mt. San Jacinto College – Menifee\, 28237 La Piedra Rd.\, Menifee\, CA\, 92584\, United States
CATEGORIES:Recruiting
ATTACH;FMTTYPE=image/png:https://centerforautism.com/wp-content/uploads/2026/03/2026.04.09-CA-Menifee-Mt.-Jacinto-College-Spring-Job-Resource-Fair.png
END:VEVENT
BEGIN:VEVENT
DTSTART;TZID=UTC:20260409T110000
DTEND;TZID=UTC:20260409T140000
DTSTAMP:20260423T231739
CREATED:20260318T203558Z
LAST-MODIFIED:20260318T203558Z
UID:20000-1775732400-1775743200@centerforautism.com
SUMMARY:NOVA 2026 Collegewide Career Fair in Annandale\, VA
DESCRIPTION:🎉 You’re invited to a CARD Career Fair! \nLooking to start a meaningful career working with children? Join us and explore opportunities as a Behavior Technician! \n📅 Thursday\, April 9\, 2026\n⏰ 11:00 AM – 2:00 PM\n📍 8333 Little River Turnpike\, Annandale\, VA \n✨ Entry-level roles available\n✨ Paid training provided\n✨ Growth opportunities\n✨ Make a real difference every day \nCome meet our team and take the first step toward a rewarding career 💙
URL:https://centerforautism.com/event/nova-2026-collegewide-career-fair-in-annandale-va/
LOCATION:Northern Virginia Community College\, 21200 Campus Drive\, Sterling\, VA\, 20164\, United States
CATEGORIES:Recruiting
ATTACH;FMTTYPE=image/png:https://centerforautism.com/wp-content/uploads/2026/03/2026.04.09-VA-Fairfax-North-NOVA-Spring-2026-Collegewide-Career-Fair.png
END:VEVENT
END:VCALENDAR