BEGIN:VCALENDAR
VERSION:2.0
PRODID:-//Center for Autism and Related Disorders (CARD®) - ECPv6.15.20//NONSGML v1.0//EN
CALSCALE:GREGORIAN
METHOD:PUBLISH
X-WR-CALNAME:Center for Autism and Related Disorders (CARD®)
X-ORIGINAL-URL:https://centerforautism.com
X-WR-CALDESC:Events for Center for Autism and Related Disorders (CARD®)
REFRESH-INTERVAL;VALUE=DURATION:PT1H
X-Robots-Tag:noindex
X-PUBLISHED-TTL:PT1H
BEGIN:VTIMEZONE
TZID:UTC
BEGIN:STANDARD
TZOFFSETFROM:+0000
TZOFFSETTO:+0000
TZNAME:UTC
DTSTART:20250101T000000
END:STANDARD
END:VTIMEZONE
BEGIN:VEVENT
DTSTART;TZID=UTC:20260411T090000
DTEND;TZID=UTC:20260411T140000
DTSTAMP:20260423T231612
CREATED:20260404T083403Z
LAST-MODIFIED:20260404T083403Z
UID:20171-1775898000-1775916000@centerforautism.com
SUMMARY:AZ Autism Expo in Phoenix\, AZ
DESCRIPTION:🎉💙 Arizona\, we’re coming your way! \nJoin CARD at the 10th Annual AZ Autism Expo — a day packed with connection\, resources\, and community! 🌟 \n✨ What to expect:\n🧠 Informative sessions on autism-related topics\n🛍️ A vibrant neurodivergent marketplace\n🤝 80+ vendors & local resources\n🌈 Sensory room for a calming reset\n🎟️ Fun raffles & more! \n📅 Saturday\, April 11\, 2026\n📍 Desert Willow Conference Center\, Phoenix \nBest of all? It’s a FREE resource fair! 🙌 \nWhether you’re a parent\, caregiver\, educator\, or community member — there’s something here for you. Come learn\, connect\, and celebrate the autism community with us! 💙
URL:https://centerforautism.com/event/az-autism-expo-in-phoenix-az/
LOCATION:Desert Willow Conference Center\, 4340 E Cotton Center Blvd\, Phoeninx\, AZ\, 85040\, United States
ATTACH;FMTTYPE=image/png:https://centerforautism.com/wp-content/uploads/2026/04/2026.04.11-AZ-Chandler-North-AZ-Autism-Expo.png
END:VEVENT
BEGIN:VEVENT
DTSTART;TZID=UTC:20260411T090000
DTEND;TZID=UTC:20260411T160000
DTSTAMP:20260423T231612
CREATED:20260325T010904Z
LAST-MODIFIED:20260325T010904Z
UID:20062-1775898000-1775923200@centerforautism.com
SUMMARY:6th Annual Autism Awareness Walk/Run in Hanford\, CA
DESCRIPTION:🏃‍♀️Join CARD at the 6th Annual Autism Acceptance 5K Walk/Run! \nLet’s come together as a community to celebrate inclusion\, raise awareness\, and support individuals and families impacted by autism. Whether you walk\, run\, or cheer from the sidelines\, your presence makes a difference! \n📅 Saturday\, April 11\, 2026\n⏰ 9:00 AM\n📍 Quail Run Park\n3199 N. Glacier Way\, Hanford\, CA \nBring your friends\, family\, and team spirit\, we can’t wait to see you there! 🎉
URL:https://centerforautism.com/event/6th-annual-autism-awareness-walk-run-in-hanford-ca/
LOCATION:Quail Creek Park\, 3199 N Glacier Way\, Hanford\, CA\, 93230\, United States
CATEGORIES:Community
ATTACH;FMTTYPE=image/png:https://centerforautism.com/wp-content/uploads/2026/03/2026.04.11-CA-Visalia-6th-Annual-Autism-Awareness-WalkRun.png
END:VEVENT
END:VCALENDAR