BEGIN:VCALENDAR
VERSION:2.0
PRODID:-//Center for Autism and Related Disorders (CARD®) - ECPv6.15.20//NONSGML v1.0//EN
CALSCALE:GREGORIAN
METHOD:PUBLISH
X-ORIGINAL-URL:https://centerforautism.com
X-WR-CALDESC:Events for Center for Autism and Related Disorders (CARD®)
REFRESH-INTERVAL;VALUE=DURATION:PT1H
X-Robots-Tag:noindex
X-PUBLISHED-TTL:PT1H
BEGIN:VTIMEZONE
TZID:UTC
BEGIN:STANDARD
TZOFFSETFROM:+0000
TZOFFSETTO:+0000
TZNAME:UTC
DTSTART:20250101T000000
END:STANDARD
END:VTIMEZONE
BEGIN:VEVENT
DTSTART;TZID=UTC:20260418T070000
DTEND;TZID=UTC:20260418T130000
DTSTAMP:20260423T231740
CREATED:20260415T202748Z
LAST-MODIFIED:20260415T202748Z
UID:20333-1776495600-1776517200@centerforautism.com
SUMMARY:Health Fair & 5K Color Run - Perris\, CA
DESCRIPTION:🎨🏃‍♀️ Get ready to run\, have fun\, and get colorful! 🏃‍♂️🎨 \nJoin CARD at the 12th Annual Health Fair & 5K Color Run in Perris\, CA! This family-friendly event is the perfect way to stay active\, connect with the community\, and celebrate wellness together. \n📅 Saturday\, April 18th\n⏰ 7:00 AM – 1:00 PM\n📍 City Hall | 101 N. D Street\, Perris\, CA \nCome out\, bring your friends and family\, and don’t forget to wear white… you’re going to leave colorful! 🌈 \nWe can’t wait to see you there! 💙
URL:https://centerforautism.com/event/health-fair-5k-color-run-perris-ca/
LOCATION:Perris City Hall\, 101 N D Street\, Perris\, CA\, 92570\, United States
CATEGORIES:Community
ATTACH;FMTTYPE=image/png:https://centerforautism.com/wp-content/uploads/2026/04/2026.04.18-CA-Riverside-5K-Color-Run.png
END:VEVENT
BEGIN:VEVENT
DTSTART;TZID=UTC:20260418T090000
DTEND;TZID=UTC:20260418T140000
DTSTAMP:20260423T231740
CREATED:20260403T174810Z
LAST-MODIFIED:20260403T174810Z
UID:20167-1776502800-1776520800@centerforautism.com
SUMMARY:Good to Go Fair in Irvine\, CA
DESCRIPTION:🚀✨ Ready\, set\, grow! \nJoin CARD at the 2026 Good To Go Fair for a day full of fun\, learning\, and community! 🎉 \n🧠 Explore child development & milestones\n🎨 Get creative with literacy\, math & STEM activities\n🗣️ Learn about speech & language support\n🏃 Build fine & gross motor skills\n🏫 Connect with local schools & organizations\n💙 PLUS — free health screenings! \n📅 Saturday\, April 18\n⏰ 9:00 AM – 2:00 PM\n📍 Pretend City Children’s Museum\, Irvine \nBest part? It’s FREE to attend! 🙌 \nBring the whole family and get your little ones “good to go” for success! 🌟 \n#GoodToGoFair #CARD #AutismSupport #FamilyFun #ChildDevelopment #FreeEvent #IrvineEvents
URL:https://centerforautism.com/event/good-to-go-fair-in-irvine-ca/
LOCATION:Pretend City Children’s Museum\, 29 Hubble\, Irvine\, CA\, 92618\, United States
ATTACH;FMTTYPE=image/png:https://centerforautism.com/wp-content/uploads/2026/04/2026.04.18-CA-Garden-Grove-Good-To-Go-Fair-2026.4.18.png
END:VEVENT
BEGIN:VEVENT
DTSTART;TZID=UTC:20260418T090000
DTEND;TZID=UTC:20260418T170000
DTSTAMP:20260423T231740
CREATED:20251029T083155Z
LAST-MODIFIED:20251029T083155Z
UID:17878-1776502800-1776531600@centerforautism.com
SUMMARY:Poker Run For Autism
DESCRIPTION:Rev your engines for a great cause!\nJoin us at the 2nd Annual Poker Run For Autism with Street Royalty MC on 04/18/2026.All proceeds benefit kids and families through Autism Care Today. Let’s ride together and make a difference!
URL:https://centerforautism.com/event/poker-run-for-autism/
LOCATION:CARD Clovis CA\, 1420 Shaw Ave\, Suite 105\, Clovis\, CA\, 93611\, United States
CATEGORIES:Community
ATTACH;FMTTYPE=image/jpeg:https://centerforautism.com/wp-content/uploads/2025/10/CA-Clovis-Fundraiser-scaled.jpg
END:VEVENT
BEGIN:VEVENT
DTSTART;TZID=UTC:20260418T170000
DTEND;TZID=UTC:20260418T200000
DTSTAMP:20260423T231740
CREATED:20260415T204007Z
LAST-MODIFIED:20260415T204007Z
UID:20337-1776531600-1776542400@centerforautism.com
SUMMARY:Empowering Abilities Resource Fair - Menifee\, CA
DESCRIPTION:📣 Join CARD at the Empowering Abilities Resource Fair! 💙 \nWe’re excited to connect with families and the community at this amazing event in Menifee! Stop by our booth to meet the CARD team\, learn more about ABA therapy\, and discover how we support individuals every step of their journey. \n📅 Saturday\, April 18th\n⏰ 5:00 PM – 8:00 PM\n📍 Lazy Creek Recreation Center\n26480 Lazy Creek Road\, Menifee\, CA \nCome say hi\, ask questions\, and explore resources designed to empower and support your family. We’d love to see you there! ✨
URL:https://centerforautism.com/event/empowering-abilities-resource-fair-menifee-ca/
LOCATION:Lazy Creek Recreation Center\, 26480 Lazy Creek Road\, Menifee\, CA\, 92586\, United States
CATEGORIES:Community
ATTACH;FMTTYPE=image/png:https://centerforautism.com/wp-content/uploads/2026/04/2026.4.18-CA-Menifee-Empowering-Abilities-Resource-Fair.png
END:VEVENT
END:VCALENDAR