BEGIN:VCALENDAR
VERSION:2.0
PRODID:-//Center for Autism and Related Disorders (CARD®) - ECPv6.15.20//NONSGML v1.0//EN
CALSCALE:GREGORIAN
METHOD:PUBLISH
X-ORIGINAL-URL:https://centerforautism.com
X-WR-CALDESC:Events for Center for Autism and Related Disorders (CARD®)
REFRESH-INTERVAL;VALUE=DURATION:PT1H
X-Robots-Tag:noindex
X-PUBLISHED-TTL:PT1H
BEGIN:VTIMEZONE
TZID:UTC
BEGIN:STANDARD
TZOFFSETFROM:+0000
TZOFFSETTO:+0000
TZNAME:UTC
DTSTART:20250101T000000
END:STANDARD
END:VTIMEZONE
BEGIN:VEVENT
DTSTART;TZID=UTC:20260421T170000
DTEND;TZID=UTC:20260421T200000
DTSTAMP:20260423T231712
CREATED:20260415T205041Z
LAST-MODIFIED:20260415T205041Z
UID:20340-1776790800-1776801600@centerforautism.com
SUMMARY:All Abilities Night - Lake Elsinore\, CA
DESCRIPTION:⚾✨ Join us for All Abilities Night! ✨⚾ \nCome out and connect with the CARD team while learning more about our programs designed to support individuals of all abilities. This is a great opportunity to ask questions\, explore resources\, and be part of an inclusive community event! \n📅 Tuesday\, April 21\, 2026\n⏰ 5:00 PM\n📍 500 Diamond Dr\, Lake Elsinore\, CA \nStop by\, say hello\, and see how CARD is making a difference every day. We’d love to meet you! 💙
URL:https://centerforautism.com/event/all-abilities-night-lake-elsinore-ca-2/
LOCATION:Lake Elsinore Storm Stadium\, 500 Diamond Drive\, Lake Elsinore\, CA\, 92530\, United States
CATEGORIES:Community
ATTACH;FMTTYPE=image/png:https://centerforautism.com/wp-content/uploads/2026/04/2026.04.21-CA-Menifee-All-Abilities-Night.png
END:VEVENT
END:VCALENDAR