BEGIN:VCALENDAR
VERSION:2.0
PRODID:-//Center for Autism and Related Disorders (CARD®) - ECPv6.15.20//NONSGML v1.0//EN
CALSCALE:GREGORIAN
METHOD:PUBLISH
X-WR-CALNAME:Center for Autism and Related Disorders (CARD®)
X-ORIGINAL-URL:https://centerforautism.com
X-WR-CALDESC:Events for Center for Autism and Related Disorders (CARD®)
REFRESH-INTERVAL;VALUE=DURATION:PT1H
X-Robots-Tag:noindex
X-PUBLISHED-TTL:PT1H
BEGIN:VTIMEZONE
TZID:UTC
BEGIN:STANDARD
TZOFFSETFROM:+0000
TZOFFSETTO:+0000
TZNAME:UTC
DTSTART:20250101T000000
END:STANDARD
END:VTIMEZONE
BEGIN:VEVENT
DTSTART;TZID=UTC:20260422T070000
DTEND;TZID=UTC:20260422T170000
DTSTAMP:20260423T231611
CREATED:20260415T200754Z
LAST-MODIFIED:20260415T200754Z
UID:20329-1776841200-1776877200@centerforautism.com
SUMMARY:Aut2Run in Camarillo\, CA
DESCRIPTION:🏃‍♂️💙 Join CARD at the 14th Annual Aut2Run! 💙🏃‍♀️ \nWe’re excited to come together with our community for a meaningful day supporting autism awareness and inclusion. Whether you’re running\, walking\, or cheering from the sidelines\, there’s a place for everyone! \n📍 California State University Channel Islands\n📅 Sunday\, April 26th\n⏰ 7:00 AM \nChoose your race: 15K\, 10K\, 5K\, 1-Mile\, Fun-K\, or even a Virtual Race! \nLet’s move for a cause and support the Autism Society Ventura County in their mission to empower individuals and families in the autism community. \n🔗 Register here: https://www.aut2run.org/ \nWe hope to see you there! 💫
URL:https://centerforautism.com/event/aut2run-in-camarillo-ca/
LOCATION:California State University Channel Islands\, 1 University Drive\, Camarillo\, CA\, 93012\, United States
CATEGORIES:Community
ATTACH;FMTTYPE=image/png:https://centerforautism.com/wp-content/uploads/2026/04/2026.04.26-Aut2Run.png
END:VEVENT
BEGIN:VEVENT
DTSTART;TZID=UTC:20260422T090000
DTEND;TZID=UTC:20260422T120000
DTSTAMP:20260423T231611
CREATED:20260318T161919Z
LAST-MODIFIED:20260318T161919Z
UID:19986-1776848400-1776859200@centerforautism.com
SUMMARY:Elgin Community College Job Fair - Elgin\, IL
DESCRIPTION:We’re hiring! 💼✨ \nJoin CARD at the Elgin Community College Job Fair and start building a career with purpose. \n📅 Wednesday\, April 22\n⏰ 9:00 AM – 12:00 PM\n📍 1700 Spartan Drive\, Elgin\, IL \nWhy CARD?\n✔ Paid\, world-class training\n✔ Career growth & advancement\n✔ Flexible schedules\n✔ Meaningful work supporting individuals with autism \nCome meet our team and explore how you can make a difference every day 💙
URL:https://centerforautism.com/event/elgin-community-college-job-fair-elgin-il/
LOCATION:Elgin Community College\, 1700 Spartan Drive\, Elgin\, IL\, 60123\, United States
CATEGORIES:Recruiting
ATTACH;FMTTYPE=image/png:https://centerforautism.com/wp-content/uploads/2026/03/2026.04.22-IL-Hoffman-Estates-ECC-Recruiting-Event.png
END:VEVENT
BEGIN:VEVENT
DTSTART;TZID=UTC:20260422T160000
DTEND;TZID=UTC:20260422T180000
DTSTAMP:20260423T231611
CREATED:20260320T170110Z
LAST-MODIFIED:20260320T170110Z
UID:20012-1776873600-1776880800@centerforautism.com
SUMMARY:Sprinkled with Support in Temecula\, CA
DESCRIPTION:🍩✨ Join CARD at “Sprinkled with Support”! ✨🍩 \nWe’re excited to be part of this SWEET community resource fair\, come stop by and connect with our team! \n📅 Wednesday\, April 22\n⏰ 4:00 PM – 6:00 PM\n📍 Mt. San Jacinto College\, Temecula\, CA \nEnjoy:\n🎶 Music\n🎟 Raffles & prizes\n🍩 Snacks\n🎉 Activities for all \nCome say hi\, explore resources\, and learn how CARD supports individuals and families 💙
URL:https://centerforautism.com/event/sprinkled-with-support-in-temecula-ca/
LOCATION:Mt. San Jacinto College – Temecula\, 41888 Motor Car Parkway\, Temecula\, CA\, 92591\, United States
CATEGORIES:Community
ATTACH;FMTTYPE=image/png:https://centerforautism.com/wp-content/uploads/2026/03/2026.04.22-CA-Temecula-Sprinkled-with-Support-Resource-Fair-1.png
END:VEVENT
END:VCALENDAR