BEGIN:VCALENDAR
VERSION:2.0
PRODID:-//Center for Autism and Related Disorders (CARD®) - ECPv6.15.20//NONSGML v1.0//EN
CALSCALE:GREGORIAN
METHOD:PUBLISH
X-WR-CALNAME:Center for Autism and Related Disorders (CARD®)
X-ORIGINAL-URL:https://centerforautism.com
X-WR-CALDESC:Events for Center for Autism and Related Disorders (CARD®)
REFRESH-INTERVAL;VALUE=DURATION:PT1H
X-Robots-Tag:noindex
X-PUBLISHED-TTL:PT1H
BEGIN:VTIMEZONE
TZID:America/Chicago
BEGIN:DAYLIGHT
TZOFFSETFROM:-0600
TZOFFSETTO:-0500
TZNAME:CDT
DTSTART:20240310T080000
END:DAYLIGHT
BEGIN:STANDARD
TZOFFSETFROM:-0500
TZOFFSETTO:-0600
TZNAME:CST
DTSTART:20241103T070000
END:STANDARD
BEGIN:DAYLIGHT
TZOFFSETFROM:-0600
TZOFFSETTO:-0500
TZNAME:CDT
DTSTART:20250309T080000
END:DAYLIGHT
BEGIN:STANDARD
TZOFFSETFROM:-0500
TZOFFSETTO:-0600
TZNAME:CST
DTSTART:20251102T070000
END:STANDARD
BEGIN:DAYLIGHT
TZOFFSETFROM:-0600
TZOFFSETTO:-0500
TZNAME:CDT
DTSTART:20260308T080000
END:DAYLIGHT
BEGIN:STANDARD
TZOFFSETFROM:-0500
TZOFFSETTO:-0600
TZNAME:CST
DTSTART:20261101T070000
END:STANDARD
END:VTIMEZONE
BEGIN:VTIMEZONE
TZID:America/Denver
BEGIN:DAYLIGHT
TZOFFSETFROM:-0700
TZOFFSETTO:-0600
TZNAME:MDT
DTSTART:20240310T090000
END:DAYLIGHT
BEGIN:STANDARD
TZOFFSETFROM:-0600
TZOFFSETTO:-0700
TZNAME:MST
DTSTART:20241103T080000
END:STANDARD
BEGIN:DAYLIGHT
TZOFFSETFROM:-0700
TZOFFSETTO:-0600
TZNAME:MDT
DTSTART:20250309T090000
END:DAYLIGHT
BEGIN:STANDARD
TZOFFSETFROM:-0600
TZOFFSETTO:-0700
TZNAME:MST
DTSTART:20251102T080000
END:STANDARD
BEGIN:DAYLIGHT
TZOFFSETFROM:-0700
TZOFFSETTO:-0600
TZNAME:MDT
DTSTART:20260308T090000
END:DAYLIGHT
BEGIN:STANDARD
TZOFFSETFROM:-0600
TZOFFSETTO:-0700
TZNAME:MST
DTSTART:20261101T080000
END:STANDARD
END:VTIMEZONE
BEGIN:VTIMEZONE
TZID:America/Vancouver
BEGIN:DAYLIGHT
TZOFFSETFROM:-0800
TZOFFSETTO:-0700
TZNAME:PDT
DTSTART:20240310T100000
END:DAYLIGHT
BEGIN:STANDARD
TZOFFSETFROM:-0700
TZOFFSETTO:-0800
TZNAME:PST
DTSTART:20241103T090000
END:STANDARD
BEGIN:DAYLIGHT
TZOFFSETFROM:-0800
TZOFFSETTO:-0700
TZNAME:PDT
DTSTART:20250309T100000
END:DAYLIGHT
BEGIN:STANDARD
TZOFFSETFROM:-0700
TZOFFSETTO:-0800
TZNAME:PST
DTSTART:20251102T090000
END:STANDARD
BEGIN:DAYLIGHT
TZOFFSETFROM:-0800
TZOFFSETTO:-0700
TZNAME:PDT
DTSTART:20260308T100000
END:DAYLIGHT
BEGIN:STANDARD
TZOFFSETFROM:-0700
TZOFFSETTO:-0800
TZNAME:PST
DTSTART:20261101T090000
END:STANDARD
END:VTIMEZONE
BEGIN:VEVENT
DTSTART;TZID=America/Chicago:20250913T113000
DTEND;TZID=America/Chicago:20250913T123000
DTSTAMP:20260424T105444
CREATED:20250913T075150Z
LAST-MODIFIED:20250913T093853Z
UID:14686-1757763000-1757766600@centerforautism.com
SUMMARY:Corpus Christi TX Parent Trainings
DESCRIPTION:Join us for Parent Trainings at the Corpus Christi Public Libraries on Saturday\, Sept 13th at 1pm CST. \nGain tools\, strategies\, and support to help your child thrive at home\, in school\, and in the community.
URL:https://centerforautism.com/event/corpus-christi-tx-parent-trainings/
LOCATION:La Retama Library\, 805 Commanche St\, Corpus Christi\, TX\, 78401\, United States
CATEGORIES:Community
ATTACH;FMTTYPE=image/jpeg:https://centerforautism.com/wp-content/uploads/2025/09/2025.09.13-Corpus-Christi-Library-Flyer.jpg
END:VEVENT
BEGIN:VEVENT
DTSTART;TZID=America/Denver:20250920T090000
DTEND;TZID=America/Denver:20250920T140000
DTSTAMP:20260424T105444
CREATED:20250913T081313Z
LAST-MODIFIED:20250913T093750Z
UID:14698-1758358800-1758376800@centerforautism.com
SUMMARY:Autism Denver CO Walk
DESCRIPTION:? Join CARD at the Walk with Autism Denver! \nMark your calendar for Saturday\, Sept. 20\, 2025\nThe Walk with Autism & Resource Fair starts at 10:00 AM MDT in Berkeley Lake Park. \nCome out to support the autism community\, connect with amazing families\, and help us make a difference. Together\, we walk\, celebrate\, and raise awareness!
URL:https://centerforautism.com/event/autism-denver-co-walk/
LOCATION:Autism Society of Colorado\, 4601 W 46th Ave\, Denver\, CO\, 80212\, United States
CATEGORIES:Community
ATTACH;FMTTYPE=image/jpeg:https://centerforautism.com/wp-content/uploads/2025/09/2025.09.20-CO-Denver-Autism-Walk.jpg
END:VEVENT
BEGIN:VEVENT
DTSTART;TZID=America/Vancouver:20250920T120000
DTEND;TZID=America/Vancouver:20250920T140000
DTSTAMP:20260424T105444
CREATED:20250913T082257Z
LAST-MODIFIED:20250913T093733Z
UID:14703-1758369600-1758376800@centerforautism.com
SUMMARY:Vancouver WA Open House
DESCRIPTION:? You’re Invited!\nJoin us at CARD Vancouver West for our Open House on Saturday\, Sept. 20\, 2025 at 12pm! \n✨ Learn about our Early Learner Readiness Program\n? Tour our center and meet our team\n? See how we support children and families every step of the way \nWe’re currently accepting new clients and hiring new staff\, come find out how you can be part of our CARD community! \n? Saturday\, Sept. 20\, 2025\n? 12:00 PM\n? CARD Vancouver West\, WA
URL:https://centerforautism.com/event/vancouver-wa-open-house/
LOCATION:CARD Vancouver West WA\, 9901 NE 7th Ave.\, Suite C-116\, Vancouver\, WA\, 98685\, United States
CATEGORIES:Community,Recruiting
ATTACH;FMTTYPE=image/jpeg:https://centerforautism.com/wp-content/uploads/2025/09/2025.09.20-WA-Vancouver-Open-House.jpg
END:VEVENT
END:VCALENDAR