BEGIN:VCALENDAR
VERSION:2.0
PRODID:-//Center for Autism and Related Disorders (CARD®) - ECPv6.15.20//NONSGML v1.0//EN
CALSCALE:GREGORIAN
METHOD:PUBLISH
X-WR-CALNAME:Center for Autism and Related Disorders (CARD®)
X-ORIGINAL-URL:https://centerforautism.com
X-WR-CALDESC:Events for Center for Autism and Related Disorders (CARD®)
REFRESH-INTERVAL;VALUE=DURATION:PT1H
X-Robots-Tag:noindex
X-PUBLISHED-TTL:PT1H
BEGIN:VTIMEZONE
TZID:UTC
BEGIN:STANDARD
TZOFFSETFROM:+0000
TZOFFSETTO:+0000
TZNAME:UTC
DTSTART:20250101T000000
END:STANDARD
END:VTIMEZONE
BEGIN:VEVENT
DTSTART;TZID=UTC:20260425T090000
DTEND;TZID=UTC:20260425T130000
DTSTAMP:20260423T231033
CREATED:20260415T222849Z
LAST-MODIFIED:20260415T223037Z
UID:20348-1777107600-1777122000@centerforautism.com
SUMMARY:All in for Autism Dino Walk - Tucson\, AZ
DESCRIPTION:Join us for a dino-mite day of fun in Tucson! 🦕💙 \nCARD is excited to be part of the All in for Autism Dino Walk\, a day filled with community\, connection\, and activities for all ages. \n📍 Tucson Convention Center – Grand Ballroom\n📅 Saturday\, April 25\n⏰ 9:00 AM – 1:00 PM (Walk begins at 10:00 AM) \nCome enjoy fun activities\, character encounters\, and a resource fair while supporting autism awareness and acceptance. We can’t wait to see you there!
URL:https://centerforautism.com/event/all-in-for-autism-dino-walk-tucson-az/
LOCATION:Tucson Convention Center Grand Ballroom\, 2303 E Speedway Blvd\, #112\, Tucson\, AZ\, 85719\, United States
CATEGORIES:Community
ATTACH;FMTTYPE=image/png:https://centerforautism.com/wp-content/uploads/2026/04/2026.04.25-AZ-Tucson-North-All-in-for-Autism-Dino-Walk-.png
END:VEVENT
BEGIN:VEVENT
DTSTART;TZID=UTC:20260425T090000
DTEND;TZID=UTC:20260425T130000
DTSTAMP:20260423T231033
CREATED:20260417T162153Z
LAST-MODIFIED:20260417T162153Z
UID:20360-1777107600-1777122000@centerforautism.com
SUMMARY:We Rock the Spectrum Rockin' Resource Fair - Van Nuys\, CA
DESCRIPTION:🎸 We’re ready to ROCK the Spectrum! 🎶 \nJoin CARD at the Rockin’ Resource Fair for a fun-filled day of music\, connection\, and community! \n📍 Woodley Park – Van Nuys\, CA\n📅 Saturday\, April 25\n⏰ 9:00 AM – 1:00 PM\n🎟️ FREE ENTRY \nExplore interactive zones including sensory play\, arts & crafts\, calming spaces\, music\, and even reptiles! \nBring the whole family and come see what makes this event so special—we can’t wait to meet you!
URL:https://centerforautism.com/event/we-rock-the-spectrum-rockin-resource-fair-van-nuys-ca/
LOCATION:Woodley Park\, 6350 Woodley Avenue\, Van Nuys\, CA\, 91436\, United States
CATEGORIES:Community
ATTACH;FMTTYPE=image/png:https://centerforautism.com/wp-content/uploads/2026/04/2026.04.25-CA-North-Hollywood-We-Rock-the-Spectrum-.png
END:VEVENT
BEGIN:VEVENT
DTSTART;TZID=UTC:20260425T140000
DTEND;TZID=UTC:20260425T170000
DTSTAMP:20260423T231033
CREATED:20260423T013843Z
LAST-MODIFIED:20260423T013843Z
UID:20398-1777125600-1777136400@centerforautism.com
SUMMARY:Texas Autism Walk - Cedar Park\, TX
DESCRIPTION:We’re excited to be part of the Texas Autism Walk! 💙👟 \nJoin CARD at Lakeline Park for a day filled with community\, connection\, and fun. Stop by our booth at the Resource Fair to meet our team\, learn more about our services\, and explore how we support individuals and families every step of the way. \n📍 Cedar Park\, TX🗓 April 25\, 2026⏰ Resource Fair starts at 9:30 AM \nBring the whole family\, enjoy the walk\, and celebrate alongside an incredible community dedicated to autism awareness and acceptance. We can’t wait to see you there! ✨
URL:https://centerforautism.com/event/texas-autism-walk-cedar-park-tx/
LOCATION:Lakeline Park\, 1510 Alexis Drive\, Cedar Park\, TX\, 78613\, United States
CATEGORIES:Community
ATTACH;FMTTYPE=image/png:https://centerforautism.com/wp-content/uploads/2026/04/2026.04.25-TX-GeorgetownAustinKyle-Texas-Autism-Walk-.png
END:VEVENT
BEGIN:VEVENT
DTSTART;TZID=UTC:20260505T120000
DTEND;TZID=UTC:20260505T160000
DTSTAMP:20260423T231033
CREATED:20260423T011902Z
LAST-MODIFIED:20260423T011902Z
UID:20394-1777982400-1777996800@centerforautism.com
SUMMARY:Children’s Hospital Colorado Vendor Fair - Aurora\, CO
DESCRIPTION:We’re heading to the Children’s Hospital Colorado Vendor Fair and we can’t wait to see you there! 💙 \nCome visit the CARD team in Aurora to learn more about our evidence-based autism services\, meet some of our amazing staff\, and discover how we support children and families every step of the way. Whether you’re just getting started or looking for additional resources\, we’re here to connect\, answer questions\, and help guide you. \n📍 Aurora\, CO🗓 Tuesday\, May 5⏰ 12 PM – 4 PM \nBring your questions\, grab some goodies\, and stop by to say hi—we love being part of this incredible community and look forward to meeting you and your family! 👋
URL:https://centerforautism.com/event/childrens-hospital-colorado-vendor-fair-aurora-co/
LOCATION:Children’s Hospital Colorado\, 13123 E 16th Ave\, Aurora\, CO\, 80045\, United States
CATEGORIES:Community
ATTACH;FMTTYPE=image/png:https://centerforautism.com/wp-content/uploads/2026/04/2026.05.05-CO-Aurora-Childrens-Hospital-Colorado-Vendor-Fair.png
END:VEVENT
BEGIN:VEVENT
DTSTART;TZID=UTC:20260509T100000
DTEND;TZID=UTC:20260509T140000
DTSTAMP:20260423T231033
CREATED:20260416T180306Z
LAST-MODIFIED:20260416T180306Z
UID:20352-1778320800-1778335200@centerforautism.com
SUMMARY:Special Needs Awareness & Resource Fair - Downey\, CA
DESCRIPTION:Join CARD in Downey for a day of fun\, connection\, and community! 💙 \nWe’re excited to be part of the Special Needs Awareness & Resource Fair at Apollo Park. Come visit our team and enjoy a day filled with activities for the whole family. \n📍 Apollo Park – Downey\, CA\n📅 Saturday\, May 9\, 2026\n⏰ 10:00 AM – 2:00 PM \nEnjoy resource vendors\, games\, a photobooth\, food trucks\, entertainment\, and more! \nWe can’t wait to see you there!
URL:https://centerforautism.com/event/special-needs-awareness-resource-fair-downey-ca/
LOCATION:Apollo Park\, 12544 Rives Ave\, Downey\, CA\, 90242\, United States
CATEGORIES:Community
ATTACH;FMTTYPE=image/png:https://centerforautism.com/wp-content/uploads/2026/04/2026.05.09-CA-Downey-Special-Needs-Awareness-Resource-Fair.png
END:VEVENT
BEGIN:VEVENT
DTSTART;VALUE=DATE:20260601
DTEND;VALUE=DATE:20260801
DTSTAMP:20260423T231033
CREATED:20260303T200034Z
LAST-MODIFIED:20260303T200034Z
UID:19823-1780272000-1785542399@centerforautism.com
SUMMARY:CARD Summer Program
DESCRIPTION:Learning doesn’t stop when summer starts ☀️\nWith themed weeks\, engaging activities\, and personalized support from CARD technicians\, your child can keep building skills all summer long 💙\nSpots are limited! \nContact your local CARD center to learn more.
URL:https://centerforautism.com/event/card-summer-program/
LOCATION:TX
CATEGORIES:Community
ATTACH;FMTTYPE=image/png:https://centerforautism.com/wp-content/uploads/2026/03/CARD-Summer-Program.png
END:VEVENT
BEGIN:VEVENT
DTSTART;TZID=UTC:20260614T103000
DTEND;TZID=UTC:20260614T123000
DTSTAMP:20260423T231033
CREATED:20260318T223201Z
LAST-MODIFIED:20260408T211839Z
UID:20003-1781433000-1781440200@centerforautism.com
SUMMARY:Touch-A-Truck Sensory Event in Monrovia\, CA
DESCRIPTION:Big trucks\, big smiles\, and sensory-friendly fun! 🚛💙 \nCARD is headed to Monrovia’s Touch-A-Truck event\, come say hi and enjoy a morning of exploration and connection. \n📅 June 14th | 10:30AM–12:30PM\n📍 Monrovia\, CA \n👋 Meet our team\n🚓 Check out cool vehicles\n💙 Learn about our programs \nPerfect for families and kids of all abilities!
URL:https://centerforautism.com/event/touch-a-truck-sensory-event-in-monrovia-ca/
LOCATION:Monrovia Community Center\, 119 W Palm Ave\, Monrovia\, CA\, 91016\, United States
CATEGORIES:Community
ATTACH;FMTTYPE=image/jpeg:https://centerforautism.com/wp-content/uploads/2026/03/2026.06.14-CA-Monrovia-Touch-a-Truck.jpg
END:VEVENT
END:VCALENDAR