BEGIN:VCALENDAR
VERSION:2.0
PRODID:-//Center for Autism and Related Disorders (CARD®) - ECPv6.15.20//NONSGML v1.0//EN
CALSCALE:GREGORIAN
METHOD:PUBLISH
X-ORIGINAL-URL:https://centerforautism.com
X-WR-CALDESC:Events for Center for Autism and Related Disorders (CARD®)
REFRESH-INTERVAL;VALUE=DURATION:PT1H
X-Robots-Tag:noindex
X-PUBLISHED-TTL:PT1H
BEGIN:VTIMEZONE
TZID:America/Chicago
BEGIN:DAYLIGHT
TZOFFSETFROM:-0600
TZOFFSETTO:-0500
TZNAME:CDT
DTSTART:20240310T080000
END:DAYLIGHT
BEGIN:STANDARD
TZOFFSETFROM:-0500
TZOFFSETTO:-0600
TZNAME:CST
DTSTART:20241103T070000
END:STANDARD
BEGIN:DAYLIGHT
TZOFFSETFROM:-0600
TZOFFSETTO:-0500
TZNAME:CDT
DTSTART:20250309T080000
END:DAYLIGHT
BEGIN:STANDARD
TZOFFSETFROM:-0500
TZOFFSETTO:-0600
TZNAME:CST
DTSTART:20251102T070000
END:STANDARD
BEGIN:DAYLIGHT
TZOFFSETFROM:-0600
TZOFFSETTO:-0500
TZNAME:CDT
DTSTART:20260308T080000
END:DAYLIGHT
BEGIN:STANDARD
TZOFFSETFROM:-0500
TZOFFSETTO:-0600
TZNAME:CST
DTSTART:20261101T070000
END:STANDARD
END:VTIMEZONE
BEGIN:VEVENT
DTSTART;TZID=America/Chicago:20251001T110000
DTEND;TZID=America/Chicago:20251001T133000
DTSTAMP:20260424T114255
CREATED:20250913T084321Z
LAST-MODIFIED:20250925T101911Z
UID:14715-1759316400-1759325400@centerforautism.com
SUMMARY:McHenry County College Job Fair
DESCRIPTION:CARD will be at the McHenry County College Job & Internship Fair! \nDate: October 1\, 2025\nTime: 11:00 AM – 1:30 PM\nLocation: Gym\, A107\, McHenry County College\, Crystal Lake\, IL \nWe’re hiring Behavior Technicians\nPaid training\nFlexible hours\nOpportunity to grow in ABA therapy \nCome meet us\, bring your resume\, and explore a career that makes a difference!
URL:https://centerforautism.com/event/mchenry-county-college-job-fair/
LOCATION:McHenry County College\, 8900 Northwest Hwy #14\, Crystal Lake\, IL\, 60012\, United States
CATEGORIES:Recruiting
ATTACH;FMTTYPE=image/jpeg:https://centerforautism.com/wp-content/uploads/2025/09/2025.10.01-IL-Hoffman-Estates-Job-Fair.jpg
END:VEVENT
END:VCALENDAR