BEGIN:VCALENDAR
VERSION:2.0
PRODID:-//Center for Autism and Related Disorders (CARD®) - ECPv6.15.20//NONSGML v1.0//EN
CALSCALE:GREGORIAN
METHOD:PUBLISH
X-ORIGINAL-URL:https://centerforautism.com
X-WR-CALDESC:Events for Center for Autism and Related Disorders (CARD®)
REFRESH-INTERVAL;VALUE=DURATION:PT1H
X-Robots-Tag:noindex
X-PUBLISHED-TTL:PT1H
BEGIN:VTIMEZONE
TZID:UTC
BEGIN:STANDARD
TZOFFSETFROM:+0000
TZOFFSETTO:+0000
TZNAME:UTC
DTSTART:20240101T000000
END:STANDARD
END:VTIMEZONE
BEGIN:VEVENT
DTSTART;TZID=UTC:20251008T093000
DTEND;TZID=UTC:20251008T123000
DTSTAMP:20260424T114256
CREATED:20251003T114952Z
LAST-MODIFIED:20251003T114952Z
UID:17666-1759915800-1759926600@centerforautism.com
SUMMARY:Baton Rouge Community College Tabling Event
DESCRIPTION:Catch CARD at BRCC! \nWe’ll be at the Baton Rouge Community College Tabling Event on Wednesday\, October 8\, 2025. \nCome learn about starting a rewarding career as a Behavior Technician with CARD! \n\nPaid training – no experience needed\nFlexible schedules\nCareer growth in ABA therapy\n\nStop by our table and let’s chat about your future!
URL:https://centerforautism.com/event/baton-rouge-community-college-tabling-event/
LOCATION:Baton Rouge Community College\, 201 Community College Drive\, Baton Rouge\, LA\, 70806\, United States
CATEGORIES:Recruiting
ATTACH;FMTTYPE=image/jpeg:https://centerforautism.com/wp-content/uploads/2025/10/2025.10.08-LA-Baton-Rouge-BRCC-Tabling-Event.jpg
END:VEVENT
END:VCALENDAR