BEGIN:VCALENDAR
VERSION:2.0
PRODID:-//Center for Autism and Related Disorders (CARD®) - ECPv6.15.20//NONSGML v1.0//EN
CALSCALE:GREGORIAN
METHOD:PUBLISH
X-ORIGINAL-URL:https://centerforautism.com
X-WR-CALDESC:Events for Center for Autism and Related Disorders (CARD®)
REFRESH-INTERVAL;VALUE=DURATION:PT1H
X-Robots-Tag:noindex
X-PUBLISHED-TTL:PT1H
BEGIN:VTIMEZONE
TZID:UTC
BEGIN:STANDARD
TZOFFSETFROM:+0000
TZOFFSETTO:+0000
TZNAME:UTC
DTSTART:20240101T000000
END:STANDARD
END:VTIMEZONE
BEGIN:VEVENT
DTSTART;TZID=UTC:20251023T100000
DTEND;TZID=UTC:20251023T130000
DTSTAMP:20260424T114405
CREATED:20251017T223935Z
LAST-MODIFIED:20251017T223935Z
UID:17781-1761213600-1761224400@centerforautism.com
SUMMARY:Yolo County Job Fair
DESCRIPTION:Join CARD at the Yolo County Job Fair on 10/23/2025\, we’re hiring Behavior Technicians who are ready to make a difference and have fun doing it!\nStop by our booth\, meet our awesome team\, and learn how you can start changing lives (including your own!).
URL:https://centerforautism.com/event/yolo-county-job-fair/
LOCATION:Civic Center Galleria\, 1110 W Capital Ave\, West Sacramento\, CA\, 95691\, United States
CATEGORIES:Recruiting
ATTACH;FMTTYPE=image/jpeg:https://centerforautism.com/wp-content/uploads/2025/10/2025.10.23-CA-Davis-Yolo-County-Job-Fair.jpg
END:VEVENT
END:VCALENDAR