BEGIN:VCALENDAR
VERSION:2.0
PRODID:-//Center for Autism and Related Disorders (CARD®) - ECPv6.15.20//NONSGML v1.0//EN
CALSCALE:GREGORIAN
METHOD:PUBLISH
X-ORIGINAL-URL:https://centerforautism.com
X-WR-CALDESC:Events for Center for Autism and Related Disorders (CARD®)
REFRESH-INTERVAL;VALUE=DURATION:PT1H
X-Robots-Tag:noindex
X-PUBLISHED-TTL:PT1H
BEGIN:VTIMEZONE
TZID:UTC
BEGIN:STANDARD
TZOFFSETFROM:+0000
TZOFFSETTO:+0000
TZNAME:UTC
DTSTART:20250101T000000
END:STANDARD
END:VTIMEZONE
BEGIN:VEVENT
DTSTART;TZID=UTC:20260127T090000
DTEND;TZID=UTC:20260127T120000
DTSTAMP:20260424T052805
CREATED:20260105T173356Z
LAST-MODIFIED:20260105T173356Z
UID:18474-1769504400-1769515200@centerforautism.com
SUMMARY:East Williamson County Hiring Event
DESCRIPTION:We’re excited to participate in the East Williamson County Hiring Event on January 27\, 2026\, in Taylor\, TX. \nThis is a great opportunity to meet the CARD Georgetown team\, learn about current openings\, and explore career paths within a growing organization focused on meaningful impact. \n📍 Taylor\, TX\n📅 01/27/2026 \nTaylor Public Library\n801 Vance Street\nTaylor\, TX 76574 \nWe look forward to connecting with you!
URL:https://centerforautism.com/event/east-williamson-county-hiring-event/
LOCATION:Taylor Public Library\, 801 Vance Street\, Taylor\, TX\, 76574\, United States
CATEGORIES:Recruiting
ATTACH;FMTTYPE=image/png:https://centerforautism.com/wp-content/uploads/2026/01/2026.01.27-TX-Georgetown-East-Williamson-County-Hiring-Event.png
END:VEVENT
END:VCALENDAR