BEGIN:VCALENDAR
VERSION:2.0
PRODID:-//Center for Autism and Related Disorders (CARD®) - ECPv6.15.20//NONSGML v1.0//EN
CALSCALE:GREGORIAN
METHOD:PUBLISH
X-ORIGINAL-URL:https://centerforautism.com
X-WR-CALDESC:Events for Center for Autism and Related Disorders (CARD®)
REFRESH-INTERVAL;VALUE=DURATION:PT1H
X-Robots-Tag:noindex
X-PUBLISHED-TTL:PT1H
BEGIN:VTIMEZONE
TZID:UTC
BEGIN:STANDARD
TZOFFSETFROM:+0000
TZOFFSETTO:+0000
TZNAME:UTC
DTSTART:20250101T000000
END:STANDARD
END:VTIMEZONE
BEGIN:VEVENT
DTSTART;TZID=UTC:20260317T100000
DTEND;TZID=UTC:20260317T130000
DTSTAMP:20260424T040014
CREATED:20260227T213934Z
LAST-MODIFIED:20260227T213934Z
UID:19808-1773741600-1773752400@centerforautism.com
SUMMARY:Woodland Community College Career Fair in Woodland\, CA
DESCRIPTION:Woodland Community College\, we’re coming your way! \nJoin CARD at the Woodland Community College Career Fair on Tuesday\, March 17th from 10am-1pm at 2300 Gibson Rd.\, Bldg. 800\, Woodland\, CA! \nLooking for a meaningful career with growth opportunities? We’re hiring for entry-level Behavior Technicians with:💙 Paid\, world-class training📈 Internal promotion & growth opportunities🩺 Free telehealth access for you & your family🎓 Continued education support⏰ Flexible schedules (center-based & in-home)🚗 Paid travel time & mileage \nStop by our booth to meet the team\, learn about ABA\, and discover how you can make an impact with CARD!
URL:https://centerforautism.com/event/woodland-community-college-career-fair-in-woodland-ca/
LOCATION:Woodland Community College\, 2300 Gibson Rd.\, Bldg. 800\, Woodland\, CA\, 95776\, United States
CATEGORIES:Recruiting
ATTACH;FMTTYPE=image/png:https://centerforautism.com/wp-content/uploads/2026/02/2026.03.17-Woodland-Community-College-Career-Fair-CARD-Davis.png
END:VEVENT
BEGIN:VEVENT
DTSTART;TZID=UTC:20260317T110000
DTEND;TZID=UTC:20260317T140000
DTSTAMP:20260424T040014
CREATED:20260217T210941Z
LAST-MODIFIED:20260217T210941Z
UID:19629-1773745200-1773756000@centerforautism.com
SUMMARY:Cal State Career Fair in San Marcos\, CA
DESCRIPTION:🚨 San Marcos — We’re Hiring!\nCARD is heading to Cal State San Marcos for a Hiring Event and we’re looking for passionate individuals to join our team as Behavior Technicians! 💙 \n📍 Cal State San Marcos📅 Tuesday\, March 17\, 2026⏰ 11AM–2PM \nIf you’re looking for a meaningful career where you can make a real difference in the lives of children and families\, come meet our team! \n✨ Industry-leading paid training✨ Flexible part-time hours✨ Continuous growth opportunities \nStop by\, ask questions\, and learn how you can start building a rewarding career with CARD. We can’t wait to meet you!
URL:https://centerforautism.com/event/cal-state-career-fair-in-san-marcos-ca/
LOCATION:Cal State\, 333 S Twin Oaks Valley Rd\, San Marcos\, CA\, 92096\, United States
CATEGORIES:Recruiting
ATTACH;FMTTYPE=image/jpeg:https://centerforautism.com/wp-content/uploads/2026/02/CA-San-Marcos-2172026.jpg
END:VEVENT
END:VCALENDAR