BEGIN:VCALENDAR
VERSION:2.0
PRODID:-//Center for Autism and Related Disorders (CARD®) - ECPv6.15.20//NONSGML v1.0//EN
CALSCALE:GREGORIAN
METHOD:PUBLISH
X-ORIGINAL-URL:https://centerforautism.com
X-WR-CALDESC:Events for Center for Autism and Related Disorders (CARD®)
REFRESH-INTERVAL;VALUE=DURATION:PT1H
X-Robots-Tag:noindex
X-PUBLISHED-TTL:PT1H
BEGIN:VTIMEZONE
TZID:UTC
BEGIN:STANDARD
TZOFFSETFROM:+0000
TZOFFSETTO:+0000
TZNAME:UTC
DTSTART:20250101T000000
END:STANDARD
END:VTIMEZONE
BEGIN:VEVENT
DTSTART;TZID=UTC:20260429T150000
DTEND;TZID=UTC:20260429T170000
DTSTAMP:20260423T231859
CREATED:20260417T184331Z
LAST-MODIFIED:20260417T184331Z
UID:20371-1777474800-1777482000@centerforautism.com
SUMMARY:First Time Job Hiring Event - San Marcos\, CA
DESCRIPTION:We’re hiring in San Marcos! 💙 \nJoin CARD at our Hiring Event and learn how you can start a rewarding career as a Behavior Technician. \n📍 San Marcos Community Center\n📅 Wednesday\, April 29\n⏰ 3:00 PM – 5:00 PM \nWe offer entry-level opportunities\, flexible part-time hours\, paid training\, and ongoing growth. \nBring your resume or apply online—we’d love to meet you and help you take the next step!
URL:https://centerforautism.com/event/first-time-job-hiring-event-san-marcos-ca/
LOCATION:San Marcos Community Center\, 3 Civic Center\, San Marcos\, CA\, 92069\, United States
CATEGORIES:Recruiting
ATTACH;FMTTYPE=image/png:https://centerforautism.com/wp-content/uploads/2026/04/2026.04.29-CA-Oceanside-First-Job-Hiring-Event.png
END:VEVENT
BEGIN:VEVENT
DTSTART;TZID=UTC:20260506T110000
DTEND;TZID=UTC:20260506T130000
DTSTAMP:20260423T231859
CREATED:20260416T184224Z
LAST-MODIFIED:20260416T184224Z
UID:20356-1778065200-1778072400@centerforautism.com
SUMMARY:Health & Wellness Job Fair - Menifee\, CA
DESCRIPTION:We’re heading to the Health & Wellness Job Fair in Menifee! 💙 \nLooking to start a meaningful career? Come meet the CARD team and learn how you can make a difference as an Entry-Level Behavior Technician. \n📍 Mt. San Jacinto College – Menifee Valley Campus\n📅 Wednesday\, May 6\, 2026\n⏰ 11:00 AM – 1:00 PM \nAt CARD\, we offer paid training\, growth opportunities\, and the chance to build a rewarding career working with kids. \nStop by and connect with us—we’d love to meet you!
URL:https://centerforautism.com/event/health-wellness-job-fair-menifee-ca/
LOCATION:Mt. San Jacinto College – Menifee\, 28237 La Piedra Rd.\, Menifee\, CA\, 92584\, United States
CATEGORIES:Recruiting
ATTACH;FMTTYPE=image/png:https://centerforautism.com/wp-content/uploads/2026/04/2026.05.06-CA-Temecula-4th-Annual-Health-and-Wellness-Job-Fair.png
END:VEVENT
BEGIN:VEVENT
DTSTART;TZID=UTC:20260507T140000
DTEND;TZID=UTC:20260507T160000
DTSTAMP:20260423T231859
CREATED:20260421T172337Z
LAST-MODIFIED:20260421T172337Z
UID:20390-1778162400-1778169600@centerforautism.com
SUMMARY:Grossmont College Employer & Student Mixer - El Cajon\, CA
DESCRIPTION:We’re heading to Grossmont College! 🎉Join us at the Employer & Student Mixer to meet the CARD team\, explore career opportunities\, and learn how you can make a difference. See you there!
URL:https://centerforautism.com/event/grossmont-college-employer-student-mixer-el-cajon-ca/
LOCATION:Grossmont College\, 8800 Grossmont College Dr\, El Cajon\, CA\, 92020\, United States
CATEGORIES:Recruiting
ATTACH;FMTTYPE=image/png:https://centerforautism.com/wp-content/uploads/2026/04/2026.05.07-CA-Chula-Vista-West-Grossmont-College-Employer-and-Student-Mixer.png
END:VEVENT
END:VCALENDAR