BEGIN:VCALENDAR
VERSION:2.0
PRODID:-//Center for Autism and Related Disorders (CARD®) - ECPv6.15.20//NONSGML v1.0//EN
CALSCALE:GREGORIAN
METHOD:PUBLISH
X-ORIGINAL-URL:https://centerforautism.com
X-WR-CALDESC:Events for Center for Autism and Related Disorders (CARD®)
REFRESH-INTERVAL;VALUE=DURATION:PT1H
X-Robots-Tag:noindex
X-PUBLISHED-TTL:PT1H
BEGIN:VTIMEZONE
TZID:UTC
BEGIN:STANDARD
TZOFFSETFROM:+0000
TZOFFSETTO:+0000
TZNAME:UTC
DTSTART:20240101T000000
END:STANDARD
END:VTIMEZONE
BEGIN:VEVENT
DTSTART;TZID=UTC:20251104T110000
DTEND;TZID=UTC:20251104T130000
DTSTAMP:20260424T164516
CREATED:20250926T213728Z
LAST-MODIFIED:20250926T213728Z
UID:17599-1762254000-1762261200@centerforautism.com
SUMMARY:USM Tabling Event
DESCRIPTION:Join CARD at the University of Southern Maine! \nWe’ll be tabling on November 4\, 2025 at 11:00 AM to share more about opportunities as a Behavior Technician! \n✨ Paid training – no experience needed\n✨ Flexible schedules\n✨ Grow your career in ABA therapy \nStop by\, say hi\, and see how you can make a difference! \n#NowHiring #USM #BehaviorTechnician #ABAtherapy #AutismSupport #JoinOurTeam #paidtraining
URL:https://centerforautism.com/event/usm-tabling-event/
LOCATION:University of Southern Maine\, 96 Falmouth St.\, Portland\, ME\, 04103\, United States
CATEGORIES:Recruiting
ATTACH;FMTTYPE=image/jpeg:https://centerforautism.com/wp-content/uploads/2025/09/2025.11.04-ME-Portland-USM-Tabling-Event.jpg
END:VEVENT
BEGIN:VEVENT
DTSTART;TZID=UTC:20251113T080000
DTEND;TZID=UTC:20251113T150000
DTSTAMP:20260424T164516
CREATED:20251106T074107Z
LAST-MODIFIED:20251107T161948Z
UID:17892-1763020800-1763046000@centerforautism.com
SUMMARY:AZABA Annual Conference in Chandler AZ
DESCRIPTION:Join CARD at the Arizona Association for Behavior Analysis (AzABA) Annual Conference in Chandler\, AZ on November 13\, 2025! \nWe’re excited to connect with experienced and aspiring behavior analysts who are passionate about advancing the science of ABA and making meaningful impacts in their communities. \nStop by our booth to: \n\nLearn about CARD’s innovative clinical practices and professional development programs\nExplore career opportunities and supervision pathways for future BCBAs\nNetwork with like-minded professionals who share your commitment to compassionate\, evidence-based care\n\nLet’s collaborate\, learn\, and celebrate the future of ABA together!
URL:https://centerforautism.com/event/azaba-annual-conference-in-chandler-az/
LOCATION:Wild Horse Pass Hotel\, 5040 Wild Horse Pass Blvd\, Chandler\, AZ\, 85226\, United States
CATEGORIES:Recruiting
ATTACH;FMTTYPE=image/jpeg:https://centerforautism.com/wp-content/uploads/2025/11/2025.11.13-AZ-Chandler-AZABA-Annual-Conference-1.jpg
END:VEVENT
BEGIN:VEVENT
DTSTART;TZID=UTC:20251113T110000
DTEND;TZID=UTC:20251113T140000
DTSTAMP:20260424T164516
CREATED:20251021T163549Z
LAST-MODIFIED:20251021T163549Z
UID:17821-1763031600-1763042400@centerforautism.com
SUMMARY:Northern Virginia Community College Tabling Event
DESCRIPTION:Looking for a career that changes lives?\nVisit CARD’s table at NOVA (11/13) to learn how you can become a Behavior Technician\, no experience needed\, full training provided!
URL:https://centerforautism.com/event/northern-virginia-community-college-tabling-event/
LOCATION:Northern Virginia Community College\, 21200 Campus Drive\, Sterling\, VA\, 20164\, United States
CATEGORIES:Recruiting
ATTACH;FMTTYPE=image/jpeg:https://centerforautism.com/wp-content/uploads/2025/10/2025.11.13-VA-Fairfax-Fall-2025-Employer-Campus-Tabling.jpg
END:VEVENT
BEGIN:VEVENT
DTSTART;TZID=UTC:20251113T110000
DTEND;TZID=UTC:20251113T140000
DTSTAMP:20260424T164516
CREATED:20251106T074745Z
LAST-MODIFIED:20251106T074745Z
UID:17896-1763031600-1763042400@centerforautism.com
SUMMARY:Cuesta College Fall Job Fair in San Luis Obispo CA
DESCRIPTION:Hey Cuesta College! \nWe’ll be at your Fall Job Fair on November 13\, come meet the CARD team! \nLearn how you can become a Behavior Technician\, get paid training\, and start a career that changes lives through Applied Behavior Analysis (ABA). \nStop by our booth to chat\, grab resources\, and find your next opportunity!
URL:https://centerforautism.com/event/cuesta-college-fall-job-fair-in-san-luis-obispo-ca/
LOCATION:Cuesta College\, CA-1\, San Luis Obispo\, CA\, 93405\, United States
CATEGORIES:Recruiting
ATTACH;FMTTYPE=image/jpeg:https://centerforautism.com/wp-content/uploads/2025/11/2025.11.13-CA-San-Luis-Obispo-Cuesta-College-Job-Fair.jpg
END:VEVENT
BEGIN:VEVENT
DTSTART;TZID=UTC:20260115T090000
DTEND;TZID=UTC:20260117T133000
DTSTAMP:20260424T164516
CREATED:20260105T194730Z
LAST-MODIFIED:20260105T194730Z
UID:18478-1768467600-1768656600@centerforautism.com
SUMMARY:ABAI NY
DESCRIPTION:CARD is heading to ABAI New York! \nJanuary 15 – January 17\nSheraton Times Square; New York City\, NY \nWe’re proud to share that our Founder\, Dr. Doreen Granpeesheh\, will be the presenting author for a CE event:\n“The Secret to Lasting Impact: Where Science\, Service\, and Business Converge.” \nJoin us for an engaging discussion on how these three pillars come together to create meaningful\, sustainable impact in the field of ABA. \n 
URL:https://centerforautism.com/event/abai-ny/
LOCATION:Sheraton New York Times Square Hotel\, 811 Seventh Avenue\, New York\, NY\, 10019\, United States
CATEGORIES:Recruiting
ATTACH;FMTTYPE=image/png:https://centerforautism.com/wp-content/uploads/2026/01/ABAI-2026.01.17.png
END:VEVENT
BEGIN:VEVENT
DTSTART;TZID=UTC:20260115T170000
DTEND;TZID=UTC:20260117T110000
DTSTAMP:20260424T164516
CREATED:20260114T213516Z
LAST-MODIFIED:20260114T213516Z
UID:18681-1768496400-1768647600@centerforautism.com
SUMMARY:ABAI Conference
DESCRIPTION:CARD is going to ABAI in New York! \nStop by Booth #602Meet our team + enter to win a Coach purse 👜🎉 \nReception: \n📅 Thurs Jan 15 | 5pm–6pm \nExhibit: \n📅 Fri Jan 16 | 9:30am–4pm📅 Sat Jan 17 | 9:30am–11am
URL:https://centerforautism.com/event/abai-conference/
LOCATION:Sheraton New York Times Square Hotel\, 811 Seventh Avenue\, New York\, NY\, 10019\, United States
CATEGORIES:Recruiting
ATTACH;FMTTYPE=image/png:https://centerforautism.com/wp-content/uploads/2026/01/ABAI-NY-2026.png
END:VEVENT
BEGIN:VEVENT
DTSTART;TZID=UTC:20260127T090000
DTEND;TZID=UTC:20260127T120000
DTSTAMP:20260424T164516
CREATED:20260105T173356Z
LAST-MODIFIED:20260105T173356Z
UID:18474-1769504400-1769515200@centerforautism.com
SUMMARY:East Williamson County Hiring Event
DESCRIPTION:We’re excited to participate in the East Williamson County Hiring Event on January 27\, 2026\, in Taylor\, TX. \nThis is a great opportunity to meet the CARD Georgetown team\, learn about current openings\, and explore career paths within a growing organization focused on meaningful impact. \n📍 Taylor\, TX\n📅 01/27/2026 \nTaylor Public Library\n801 Vance Street\nTaylor\, TX 76574 \nWe look forward to connecting with you!
URL:https://centerforautism.com/event/east-williamson-county-hiring-event/
LOCATION:Taylor Public Library\, 801 Vance Street\, Taylor\, TX\, 76574\, United States
CATEGORIES:Recruiting
ATTACH;FMTTYPE=image/png:https://centerforautism.com/wp-content/uploads/2026/01/2026.01.27-TX-Georgetown-East-Williamson-County-Hiring-Event.png
END:VEVENT
BEGIN:VEVENT
DTSTART;TZID=UTC:20260218T100000
DTEND;TZID=UTC:20260218T140000
DTSTAMP:20260424T164516
CREATED:20260210T235001Z
LAST-MODIFIED:20260210T235001Z
UID:19369-1771408800-1771423200@centerforautism.com
SUMMARY:Denver Spring 2026 Internship & Job Fair in Denver\, CO
DESCRIPTION:Looking for a career that matters? Meet CARD at the University of Colorado Denver Spring 2026 Internship & Job Fair on February 18 and learn how you can grow with us while making an impact.
URL:https://centerforautism.com/event/denver-spring-2026-internship-job-fair-in-denver-co/
LOCATION:University of Colorado Denver\, 1355 12th Street\, Denver\, CO\, 80204\, United States
CATEGORIES:Recruiting
ATTACH;FMTTYPE=image/jpeg:https://centerforautism.com/wp-content/uploads/2026/02/2026.02.18-CO-Lakewood-CU-Denver-Spring-2026-Internship-and-Job-Fair.jpg
END:VEVENT
BEGIN:VEVENT
DTSTART;TZID=UTC:20260218T110000
DTEND;TZID=UTC:20260218T160000
DTSTAMP:20260424T164516
CREATED:20260126T165144Z
LAST-MODIFIED:20260126T165144Z
UID:18709-1771412400-1771430400@centerforautism.com
SUMMARY:George Mason University Career Fair - Fairfax\, VA
DESCRIPTION:Join CARD®Build a career that changes lives.We’re hiring compassionate\, driven individuals to support children and families through applied behavior analysis.✔ Paid training✔ Career growth✔ Meaningful impact—every day \nStop by and meet our team!
URL:https://centerforautism.com/event/george-mason-university-career-fair-fairfax-va/
LOCATION:George Mason University\, 4400 University Drive\, Fairfax\, VA\, 22030\, United States
CATEGORIES:Recruiting
ATTACH;FMTTYPE=image/jpeg:https://centerforautism.com/wp-content/uploads/2026/01/2026.2.18-VA-Fairfax-George-Mason-University-Spring-Career-Fair-2026-1.jpg
END:VEVENT
BEGIN:VEVENT
DTSTART;TZID=UTC:20260226T130000
DTEND;TZID=UTC:20260226T160000
DTSTAMP:20260424T164516
CREATED:20260210T163017Z
LAST-MODIFIED:20260210T163017Z
UID:19339-1772110800-1772121600@centerforautism.com
SUMMARY:WSU Vancouver Career & Internship Fair in Vancouver\, WA
DESCRIPTION:Looking for a career that makes a difference? 💙\nMeet the CARD team at the WSU Vancouver Career & Internship Fair on February 26\, 2026 from 1–4 PM and learn how you can make an impact with us. \nApply online at www.centerforautism.com/careers or reach out to our Recruiter at careers@centerforautism.com. \nSee you there!
URL:https://centerforautism.com/event/wsu-vancouver-career-internship-fair-in-vancouver-wa-2/
LOCATION:Washington State University\, 14204 NE Salmon Creek Ave\, Vancouver\, WA\, 98686\, United States
CATEGORIES:Recruiting
ATTACH;FMTTYPE=image/jpeg:https://centerforautism.com/wp-content/uploads/2026/02/2026.02.26-WA-Vancouver-WSU-Vancouver-Career-and-Internship-Fair.jpg
END:VEVENT
BEGIN:VEVENT
DTSTART;TZID=UTC:20260306T080000
DTEND;TZID=UTC:20260307T133000
DTSTAMP:20260424T164516
CREATED:20260226T002011Z
LAST-MODIFIED:20260226T002011Z
UID:19797-1772784000-1772890200@centerforautism.com
SUMMARY:CalABA in Sacramento\, CA
DESCRIPTION:👜✨ Coach Bag Energy Activated\nCalABA… but make it fashionable. \nCARD will be at CalABA March 6–7\, and we’re bringing the vibes\, and the giveaways. \n👜 We’re raffling off FOUR Coach handbags!!!\n📍 Stop by our Exhibitor Booth #330\n💼 Catch us at the Saturday Job Fair \nCome talk ABA\, careers\, and maybe leave with a little designer energy 👀✨\nCheck us out online: www.centerforautism.com \nSee you at Booth #330!
URL:https://centerforautism.com/event/calaba-in-sacramento-ca/
LOCATION:Sacramento Convention Center\, Sacramento\, CA\, United States
CATEGORIES:Recruiting
ATTACH;FMTTYPE=image/png:https://centerforautism.com/wp-content/uploads/2026/02/2026.03-CalABA-Advertisement-Coach-Purse-Giveaway.png
END:VEVENT
BEGIN:VEVENT
DTSTART;TZID=UTC:20260311T110000
DTEND;TZID=UTC:20260311T150000
DTSTAMP:20260424T164516
CREATED:20260217T205519Z
LAST-MODIFIED:20260217T205519Z
UID:19625-1773226800-1773241200@centerforautism.com
SUMMARY:Chapman Spring Career Fair in Orange\, CA
DESCRIPTION:Ready to start a career that truly matters? \nJoin CARD at the Chapman Spring Career Fair in Orange\, CA on March 11th from 11AM–3PM! \nWe’re looking for compassionate\, motivated individuals to join our team as Behavior Technicians — no two days are the same\, and the impact is real. \nStop by our table\, meet the team\, and see how you can grow with CARD. ✨
URL:https://centerforautism.com/event/chapman-spring-career-fair-in-orange-ca/
LOCATION:Chapman University\, 1 University Drive\, Orange\, CA\, 92866\, United States
CATEGORIES:Recruiting
ATTACH;FMTTYPE=image/png:https://centerforautism.com/wp-content/uploads/2026/02/2026.03.11-CA-Garden-Grove-Chapman-Spring-Career-Fair-scaled.png
END:VEVENT
BEGIN:VEVENT
DTSTART;TZID=UTC:20260311T120000
DTEND;TZID=UTC:20260311T150000
DTSTAMP:20260424T164516
CREATED:20260217T194817Z
LAST-MODIFIED:20260217T194817Z
UID:19617-1773230400-1773241200@centerforautism.com
SUMMARY:Career Expo Job & Internship Fair - Romeoville\, IL
DESCRIPTION:📍 Romeoville\, IL — We’re Hiring! \nCARD is heading to the Career Expo Job & Internship Fair on Wednesday\, March 11th from 12–3 PM — and we’re looking for passionate individuals ready to make a difference. 💙 \nInterested in a meaningful career in ABA therapy? Looking for hands-on internship opportunities? Come meet our team\, learn about growth opportunities\, and explore how you can build a rewarding career with CARD. \nWe can’t wait to connect with you!
URL:https://centerforautism.com/event/career-expo-job-internship-fair-romeoville-il/
LOCATION:Romeoville Fieldhouse and Rec Center\, 1 University Pkwy\, Romeoville\, IL\, 60446\, United States
CATEGORIES:Recruiting
ATTACH;FMTTYPE=image/png:https://centerforautism.com/wp-content/uploads/2026/02/IL-Naperville-Career-Expo-Job-Internship-Fair-31126.png
END:VEVENT
BEGIN:VEVENT
DTSTART;TZID=UTC:20260317T100000
DTEND;TZID=UTC:20260317T130000
DTSTAMP:20260424T164516
CREATED:20260227T213934Z
LAST-MODIFIED:20260227T213934Z
UID:19808-1773741600-1773752400@centerforautism.com
SUMMARY:Woodland Community College Career Fair in Woodland\, CA
DESCRIPTION:Woodland Community College\, we’re coming your way! \nJoin CARD at the Woodland Community College Career Fair on Tuesday\, March 17th from 10am-1pm at 2300 Gibson Rd.\, Bldg. 800\, Woodland\, CA! \nLooking for a meaningful career with growth opportunities? We’re hiring for entry-level Behavior Technicians with:💙 Paid\, world-class training📈 Internal promotion & growth opportunities🩺 Free telehealth access for you & your family🎓 Continued education support⏰ Flexible schedules (center-based & in-home)🚗 Paid travel time & mileage \nStop by our booth to meet the team\, learn about ABA\, and discover how you can make an impact with CARD!
URL:https://centerforautism.com/event/woodland-community-college-career-fair-in-woodland-ca/
LOCATION:Woodland Community College\, 2300 Gibson Rd.\, Bldg. 800\, Woodland\, CA\, 95776\, United States
CATEGORIES:Recruiting
ATTACH;FMTTYPE=image/png:https://centerforautism.com/wp-content/uploads/2026/02/2026.03.17-Woodland-Community-College-Career-Fair-CARD-Davis.png
END:VEVENT
BEGIN:VEVENT
DTSTART;TZID=UTC:20260317T110000
DTEND;TZID=UTC:20260317T140000
DTSTAMP:20260424T164516
CREATED:20260217T210941Z
LAST-MODIFIED:20260217T210941Z
UID:19629-1773745200-1773756000@centerforautism.com
SUMMARY:Cal State Career Fair in San Marcos\, CA
DESCRIPTION:🚨 San Marcos — We’re Hiring!\nCARD is heading to Cal State San Marcos for a Hiring Event and we’re looking for passionate individuals to join our team as Behavior Technicians! 💙 \n📍 Cal State San Marcos📅 Tuesday\, March 17\, 2026⏰ 11AM–2PM \nIf you’re looking for a meaningful career where you can make a real difference in the lives of children and families\, come meet our team! \n✨ Industry-leading paid training✨ Flexible part-time hours✨ Continuous growth opportunities \nStop by\, ask questions\, and learn how you can start building a rewarding career with CARD. We can’t wait to meet you!
URL:https://centerforautism.com/event/cal-state-career-fair-in-san-marcos-ca/
LOCATION:Cal State\, 333 S Twin Oaks Valley Rd\, San Marcos\, CA\, 92096\, United States
CATEGORIES:Recruiting
ATTACH;FMTTYPE=image/jpeg:https://centerforautism.com/wp-content/uploads/2026/02/CA-San-Marcos-2172026.jpg
END:VEVENT
BEGIN:VEVENT
DTSTART;TZID=UTC:20260325T160000
DTEND;TZID=UTC:20260325T190000
DTSTAMP:20260424T164516
CREATED:20260227T214507Z
LAST-MODIFIED:20260227T214507Z
UID:19812-1774454400-1774465200@centerforautism.com
SUMMARY:Regional Job Fair in Lynnwood\, WA
DESCRIPTION:Join CARD at the Lynnwood Regional Job Fair! \nWe’re hiring and can’t wait to meet you! \n📍 Edmonds College – Seaview Gym📅 Wednesday\, March 25\, 2026⏰ 4:00 PM – 7:00 PM \nLooking for a meaningful career with growth opportunities? CARD offers:💙 Industry-leading paid training⏰ Flexible part-time hours📈 Continuous growth opportunities \nStop by our booth to connect with our team\, learn about Behavior Technician roles\, and discover how you can make a difference every day. \nLet’s build your future together!
URL:https://centerforautism.com/event/regional-job-fair-in-lynnwood-wa/
LOCATION:Edmonds College\, 200th St. SW\, Lynnwood\, WA\, 98036\, United States
CATEGORIES:Recruiting
ATTACH;FMTTYPE=image/jpeg:https://centerforautism.com/wp-content/uploads/2026/02/2026.03.25-WA-Lynnwood-Regional-Job-Fair.jpg
END:VEVENT
BEGIN:VEVENT
DTSTART;TZID=UTC:20260408T110000
DTEND;TZID=UTC:20260408T133000
DTSTAMP:20260424T164516
CREATED:20260318T161626Z
LAST-MODIFIED:20260318T161626Z
UID:19983-1775646000-1775655000@centerforautism.com
SUMMARY:McHenry County College Job & Internship Fair - Crystal Lake\, IL
DESCRIPTION:🎓 Looking for a meaningful career where you can make an impact? \nJoin CARD at the McHenry County College Job & Internship Fair! \n📍 Crystal Lake\, IL\n📅 Wednesday\, April 8\n⏰ 11:00 AM – 1:30 PM \n✨ Entry-level opportunities\n✨ Paid training + career growth\n✨ Flexible schedules\n✨ Work that truly makes a difference \nCome meet our team and learn how you can build a rewarding career supporting individuals with autism 💙
URL:https://centerforautism.com/event/mchenry-county-college-job-internship-fair-crystal-lake-il/
LOCATION:McHenry County College\, 8900 Northwest Hwy #14\, Crystal Lake\, IL\, 60012\, United States
CATEGORIES:Recruiting
ATTACH;FMTTYPE=image/png:https://centerforautism.com/wp-content/uploads/2026/03/2026.04.08-IL-Hoffman-Estates-MCC-Job-Internship-Fair.png
END:VEVENT
BEGIN:VEVENT
DTSTART;TZID=UTC:20260409T100000
DTEND;TZID=UTC:20260409T130000
DTSTAMP:20260424T164516
CREATED:20260318T180229Z
LAST-MODIFIED:20260318T180229Z
UID:19994-1775728800-1775739600@centerforautism.com
SUMMARY:Mt. San Jacinto Spring Job & Resource Fair - Menifee\, CA
DESCRIPTION:We’re hiring! 💼✨ \nJoin CARD at the Mt. San Jacinto Spring Job & Resource Fair and discover how YOU can make a difference. \n📅 Thursday\, April 9\, 2026\n⏰ 10:00 AM – 1:00 PM\n📍 28237 La Piedra Rd.\, Menifee\, CA \nStart your journey as a Behavior Technician with:\n✔ Paid\, world-class training\n✔ Career growth opportunities\n✔ Flexible schedules\n✔ Meaningful\, impactful work \nStop by and meet our team\, we’d love to connect! 💙
URL:https://centerforautism.com/event/mt-san-jacinto-spring-job-resource-fair-menifee-ca/
LOCATION:Mt. San Jacinto College – Menifee\, 28237 La Piedra Rd.\, Menifee\, CA\, 92584\, United States
CATEGORIES:Recruiting
ATTACH;FMTTYPE=image/png:https://centerforautism.com/wp-content/uploads/2026/03/2026.04.09-CA-Menifee-Mt.-Jacinto-College-Spring-Job-Resource-Fair.png
END:VEVENT
BEGIN:VEVENT
DTSTART;TZID=UTC:20260409T110000
DTEND;TZID=UTC:20260409T140000
DTSTAMP:20260424T164516
CREATED:20260318T203558Z
LAST-MODIFIED:20260318T203558Z
UID:20000-1775732400-1775743200@centerforautism.com
SUMMARY:NOVA 2026 Collegewide Career Fair in Annandale\, VA
DESCRIPTION:🎉 You’re invited to a CARD Career Fair! \nLooking to start a meaningful career working with children? Join us and explore opportunities as a Behavior Technician! \n📅 Thursday\, April 9\, 2026\n⏰ 11:00 AM – 2:00 PM\n📍 8333 Little River Turnpike\, Annandale\, VA \n✨ Entry-level roles available\n✨ Paid training provided\n✨ Growth opportunities\n✨ Make a real difference every day \nCome meet our team and take the first step toward a rewarding career 💙
URL:https://centerforautism.com/event/nova-2026-collegewide-career-fair-in-annandale-va/
LOCATION:Northern Virginia Community College\, 21200 Campus Drive\, Sterling\, VA\, 20164\, United States
CATEGORIES:Recruiting
ATTACH;FMTTYPE=image/png:https://centerforautism.com/wp-content/uploads/2026/03/2026.04.09-VA-Fairfax-North-NOVA-Spring-2026-Collegewide-Career-Fair.png
END:VEVENT
BEGIN:VEVENT
DTSTART;TZID=UTC:20260422T090000
DTEND;TZID=UTC:20260422T120000
DTSTAMP:20260424T164516
CREATED:20260318T161919Z
LAST-MODIFIED:20260318T161919Z
UID:19986-1776848400-1776859200@centerforautism.com
SUMMARY:Elgin Community College Job Fair - Elgin\, IL
DESCRIPTION:We’re hiring! 💼✨ \nJoin CARD at the Elgin Community College Job Fair and start building a career with purpose. \n📅 Wednesday\, April 22\n⏰ 9:00 AM – 12:00 PM\n📍 1700 Spartan Drive\, Elgin\, IL \nWhy CARD?\n✔ Paid\, world-class training\n✔ Career growth & advancement\n✔ Flexible schedules\n✔ Meaningful work supporting individuals with autism \nCome meet our team and explore how you can make a difference every day 💙
URL:https://centerforautism.com/event/elgin-community-college-job-fair-elgin-il/
LOCATION:Elgin Community College\, 1700 Spartan Drive\, Elgin\, IL\, 60123\, United States
CATEGORIES:Recruiting
ATTACH;FMTTYPE=image/png:https://centerforautism.com/wp-content/uploads/2026/03/2026.04.22-IL-Hoffman-Estates-ECC-Recruiting-Event.png
END:VEVENT
BEGIN:VEVENT
DTSTART;TZID=UTC:20260423T100000
DTEND;TZID=UTC:20260423T130000
DTSTAMP:20260424T164516
CREATED:20260417T175221Z
LAST-MODIFIED:20260417T175221Z
UID:20368-1776938400-1776949200@centerforautism.com
SUMMARY:Monrovia Community Job Fair - Monrovia\, CA
DESCRIPTION:We’re excited to be part of the Monrovia Community Job Fair! 💼 \nCome connect with the CARD team and explore opportunities to start a meaningful career making a difference in the lives of others. \n📍 Monrovia Community Adult School\n📅 Thursday\, April 23\, 2026\n⏰ 10:00 AM – 1:00 PM \nWith 40+ employers in attendance\, this is a great opportunity to network\, learn\, and take the next step in your career journey. \nStop by our booth—we’d love to meet you!
URL:https://centerforautism.com/event/monrovia-community-job-fair-monrovia-ca/
LOCATION:Monrovia Community Adult School\, 920 Mountain Ave\, Monrovia\, CA\, 91016\, United States
CATEGORIES:Recruiting
ATTACH;FMTTYPE=image/png:https://centerforautism.com/wp-content/uploads/2026/04/2026.04.23-CA-Monrovia-Community-Job-Fair-1.png
END:VEVENT
BEGIN:VEVENT
DTSTART;TZID=UTC:20260423T110000
DTEND;TZID=UTC:20260423T140000
DTSTAMP:20260424T164516
CREATED:20260415T215400Z
LAST-MODIFIED:20260415T215400Z
UID:20344-1776942000-1776952800@centerforautism.com
SUMMARY:OC Job Fair - Santa Ana\, CA
DESCRIPTION:Join us in Santa Ana! 💙 \nCARD is hosting a Job Fair and we’d love to meet you! If you’re looking to start a meaningful career and make a difference in the lives of children with autism\, this is your opportunity. \n📍 1530 W 17th St.\, Santa Ana\, CA\n📅 Thursday\, April 23\, 2026\n⏰ 11:00 AM – 2:00 PM \nWe’re hiring Entry-Level Behavior Technicians and offering paid training\, growth opportunities\, and a chance to build a rewarding career. \nStop by\, meet our team\, and see how you can make an impact!
URL:https://centerforautism.com/event/oc-job-fair-santa-ana-ca/
LOCATION:Santa Ana College\, 1530 West 17th Street\, Santa Ana\, CA\, 92706\, United States
CATEGORIES:Recruiting
ATTACH;FMTTYPE=image/png:https://centerforautism.com/wp-content/uploads/2026/04/2026.04.23-CA-Garden-Grove-OC-Job-Fair.png
END:VEVENT
BEGIN:VEVENT
DTSTART;TZID=UTC:20260429T150000
DTEND;TZID=UTC:20260429T170000
DTSTAMP:20260424T164516
CREATED:20260417T184331Z
LAST-MODIFIED:20260417T184331Z
UID:20371-1777474800-1777482000@centerforautism.com
SUMMARY:First Time Job Hiring Event - San Marcos\, CA
DESCRIPTION:We’re hiring in San Marcos! 💙 \nJoin CARD at our Hiring Event and learn how you can start a rewarding career as a Behavior Technician. \n📍 San Marcos Community Center\n📅 Wednesday\, April 29\n⏰ 3:00 PM – 5:00 PM \nWe offer entry-level opportunities\, flexible part-time hours\, paid training\, and ongoing growth. \nBring your resume or apply online—we’d love to meet you and help you take the next step!
URL:https://centerforautism.com/event/first-time-job-hiring-event-san-marcos-ca/
LOCATION:San Marcos Community Center\, 3 Civic Center\, San Marcos\, CA\, 92069\, United States
CATEGORIES:Recruiting
ATTACH;FMTTYPE=image/png:https://centerforautism.com/wp-content/uploads/2026/04/2026.04.29-CA-Oceanside-First-Job-Hiring-Event.png
END:VEVENT
BEGIN:VEVENT
DTSTART;TZID=UTC:20260506T110000
DTEND;TZID=UTC:20260506T130000
DTSTAMP:20260424T164516
CREATED:20260416T184224Z
LAST-MODIFIED:20260416T184224Z
UID:20356-1778065200-1778072400@centerforautism.com
SUMMARY:Health & Wellness Job Fair - Menifee\, CA
DESCRIPTION:We’re heading to the Health & Wellness Job Fair in Menifee! 💙 \nLooking to start a meaningful career? Come meet the CARD team and learn how you can make a difference as an Entry-Level Behavior Technician. \n📍 Mt. San Jacinto College – Menifee Valley Campus\n📅 Wednesday\, May 6\, 2026\n⏰ 11:00 AM – 1:00 PM \nAt CARD\, we offer paid training\, growth opportunities\, and the chance to build a rewarding career working with kids. \nStop by and connect with us—we’d love to meet you!
URL:https://centerforautism.com/event/health-wellness-job-fair-menifee-ca/
LOCATION:Mt. San Jacinto College – Menifee\, 28237 La Piedra Rd.\, Menifee\, CA\, 92584\, United States
CATEGORIES:Recruiting
ATTACH;FMTTYPE=image/png:https://centerforautism.com/wp-content/uploads/2026/04/2026.05.06-CA-Temecula-4th-Annual-Health-and-Wellness-Job-Fair.png
END:VEVENT
BEGIN:VEVENT
DTSTART;TZID=UTC:20260507T140000
DTEND;TZID=UTC:20260507T160000
DTSTAMP:20260424T164516
CREATED:20260421T172337Z
LAST-MODIFIED:20260421T172337Z
UID:20390-1778162400-1778169600@centerforautism.com
SUMMARY:Grossmont College Employer & Student Mixer - El Cajon\, CA
DESCRIPTION:We’re heading to Grossmont College! 🎉Join us at the Employer & Student Mixer to meet the CARD team\, explore career opportunities\, and learn how you can make a difference. See you there!
URL:https://centerforautism.com/event/grossmont-college-employer-student-mixer-el-cajon-ca/
LOCATION:Grossmont College\, 8800 Grossmont College Dr\, El Cajon\, CA\, 92020\, United States
CATEGORIES:Recruiting
ATTACH;FMTTYPE=image/png:https://centerforautism.com/wp-content/uploads/2026/04/2026.05.07-CA-Chula-Vista-West-Grossmont-College-Employer-and-Student-Mixer.png
END:VEVENT
END:VCALENDAR