BEGIN:VCALENDAR
VERSION:2.0
PRODID:-//Center for Autism and Related Disorders (CARD®) - ECPv6.15.20//NONSGML v1.0//EN
CALSCALE:GREGORIAN
METHOD:PUBLISH
X-WR-CALNAME:Center for Autism and Related Disorders (CARD®)
X-ORIGINAL-URL:https://centerforautism.com
X-WR-CALDESC:Events for Center for Autism and Related Disorders (CARD®)
REFRESH-INTERVAL;VALUE=DURATION:PT1H
X-Robots-Tag:noindex
X-PUBLISHED-TTL:PT1H
BEGIN:VTIMEZONE
TZID:UTC
BEGIN:STANDARD
TZOFFSETFROM:+0000
TZOFFSETTO:+0000
TZNAME:UTC
DTSTART:20250101T000000
END:STANDARD
END:VTIMEZONE
BEGIN:VEVENT
DTSTART;TZID=UTC:20260507T140000
DTEND;TZID=UTC:20260507T160000
DTSTAMP:20260424T155438
CREATED:20260421T172337Z
LAST-MODIFIED:20260421T172337Z
UID:20390-1778162400-1778169600@centerforautism.com
SUMMARY:Grossmont College Employer & Student Mixer - El Cajon\, CA
DESCRIPTION:We’re heading to Grossmont College! 🎉Join us at the Employer & Student Mixer to meet the CARD team\, explore career opportunities\, and learn how you can make a difference. See you there!
URL:https://centerforautism.com/event/grossmont-college-employer-student-mixer-el-cajon-ca/
LOCATION:Grossmont College\, 8800 Grossmont College Dr\, El Cajon\, CA\, 92020\, United States
CATEGORIES:Recruiting
ATTACH;FMTTYPE=image/png:https://centerforautism.com/wp-content/uploads/2026/04/2026.05.07-CA-Chula-Vista-West-Grossmont-College-Employer-and-Student-Mixer.png
END:VEVENT
END:VCALENDAR