BEGIN:VCALENDAR
VERSION:2.0
PRODID:-//Center for Autism and Related Disorders (CARD®) - ECPv6.15.20//NONSGML v1.0//EN
CALSCALE:GREGORIAN
METHOD:PUBLISH
X-WR-CALNAME:Center for Autism and Related Disorders (CARD®)
X-ORIGINAL-URL:https://centerforautism.com
X-WR-CALDESC:Events for Center for Autism and Related Disorders (CARD®)
REFRESH-INTERVAL;VALUE=DURATION:PT1H
X-Robots-Tag:noindex
X-PUBLISHED-TTL:PT1H
BEGIN:VTIMEZONE
TZID:America/Chicago
BEGIN:DAYLIGHT
TZOFFSETFROM:-0600
TZOFFSETTO:-0500
TZNAME:CDT
DTSTART:20240310T080000
END:DAYLIGHT
BEGIN:STANDARD
TZOFFSETFROM:-0500
TZOFFSETTO:-0600
TZNAME:CST
DTSTART:20241103T070000
END:STANDARD
BEGIN:DAYLIGHT
TZOFFSETFROM:-0600
TZOFFSETTO:-0500
TZNAME:CDT
DTSTART:20250309T080000
END:DAYLIGHT
BEGIN:STANDARD
TZOFFSETFROM:-0500
TZOFFSETTO:-0600
TZNAME:CST
DTSTART:20251102T070000
END:STANDARD
BEGIN:DAYLIGHT
TZOFFSETFROM:-0600
TZOFFSETTO:-0500
TZNAME:CDT
DTSTART:20260308T080000
END:DAYLIGHT
BEGIN:STANDARD
TZOFFSETFROM:-0500
TZOFFSETTO:-0600
TZNAME:CST
DTSTART:20261101T070000
END:STANDARD
END:VTIMEZONE
BEGIN:VTIMEZONE
TZID:America/Los_Angeles
BEGIN:DAYLIGHT
TZOFFSETFROM:-0800
TZOFFSETTO:-0700
TZNAME:PDT
DTSTART:20240310T100000
END:DAYLIGHT
BEGIN:STANDARD
TZOFFSETFROM:-0700
TZOFFSETTO:-0800
TZNAME:PST
DTSTART:20241103T090000
END:STANDARD
BEGIN:DAYLIGHT
TZOFFSETFROM:-0800
TZOFFSETTO:-0700
TZNAME:PDT
DTSTART:20250309T100000
END:DAYLIGHT
BEGIN:STANDARD
TZOFFSETFROM:-0700
TZOFFSETTO:-0800
TZNAME:PST
DTSTART:20251102T090000
END:STANDARD
BEGIN:DAYLIGHT
TZOFFSETFROM:-0800
TZOFFSETTO:-0700
TZNAME:PDT
DTSTART:20260308T100000
END:DAYLIGHT
BEGIN:STANDARD
TZOFFSETFROM:-0700
TZOFFSETTO:-0800
TZNAME:PST
DTSTART:20261101T090000
END:STANDARD
END:VTIMEZONE
BEGIN:VEVENT
DTSTART;TZID=America/Chicago:20250911T170000
DTEND;TZID=America/Chicago:20250911T190000
DTSTAMP:20260424T143123
CREATED:20250913T074604Z
LAST-MODIFIED:20250913T093909Z
UID:14682-1757610000-1757617200@centerforautism.com
SUMMARY:Hammond LA Job Fair
DESCRIPTION:? We’re heading to Ponchatoula! \nCARD Hammond will be at the Ponchatoula High School Job Fair looking for passionate individuals to join our team as a Behavior Technician. \n? September 11\, 2025\n⏰ 5:00 PM\n? Ponchatoula High School \n✨ Paid training\, no experience required\n✨ Flexible schedules\n✨ Career growth opportunities \nStop by our booth to learn more and start your journey with CARD! ?
URL:https://centerforautism.com/event/hammond-la-job-fair/
LOCATION:Ponchatoula High School\, 19452 LA-22\, Ponchatoula\, LA\, 70454\, United States
CATEGORIES:Recruiting
ATTACH;FMTTYPE=image/png:https://centerforautism.com/wp-content/uploads/2025/09/2025.09.11-LA-Hammond-Job-Fair.png
END:VEVENT
BEGIN:VEVENT
DTSTART;TZID=America/Los_Angeles:20250911T100000
DTEND;TZID=America/Los_Angeles:20250911T140000
DTSTAMP:20260424T143123
CREATED:20250911T112718Z
LAST-MODIFIED:20250913T071802Z
UID:14556-1757584800-1757599200@centerforautism.com
SUMMARY:Santa Barbara CA Hiring Event
DESCRIPTION:Santa Barbara\, Your New Career Starts Here! \n? September 11\, 2025\n⏰ 10:00 AM\n? Santa Barbara\, CA \nWhat’s in it for you?\n• Paid training – no experience needed\n• Flexible schedules\n• Career growth in ABA therapy \nTake the first step toward making a difference! See you there.
URL:https://centerforautism.com/event/santa-barbara-ca-hiring-event/
LOCATION:CARD Santa Barbara CA\, 533 E Micheltorena St.\, Suite 101\, Santa Barbara\, CA\, 93103\, United States
CATEGORIES:Recruiting
ATTACH;FMTTYPE=image/jpeg:https://centerforautism.com/wp-content/uploads/2025/09/2025.09.11-CA-Santa-Barbara-Hiring-Event.jpg
END:VEVENT
BEGIN:VEVENT
DTSTART;TZID=America/Los_Angeles:20250910T100000
DTEND;TZID=America/Los_Angeles:20250910T140000
DTSTAMP:20260424T143123
CREATED:20250913T073830Z
LAST-MODIFIED:20250913T093924Z
UID:14674-1757498400-1757512800@centerforautism.com
SUMMARY:Santa Maria CA Hiring Event
DESCRIPTION:? Mark your calendars\, Santa Maria!\nCARD’s Hiring Event is happening next week – and we’re looking for passionate individuals to join us as Behavior Technicians ? \n? Tuesday\, September 10\n? 10:00 AM (PST)\n? Santa Maria\, CA \n✨ Paid training (#paidtraining)\n✨ Flexible schedules\n✨ Career growth opportunities \nDon’t miss your chance to start a career that changes lives! ?
URL:https://centerforautism.com/event/santa-maria-ca-hiring-event/
LOCATION:CARD Santa Maria CA\, 2400 Professional Pkwy. Suite 150\, Santa Maria\, CA\, 93455\, United States
CATEGORIES:Recruiting
ATTACH;FMTTYPE=image/jpeg:https://centerforautism.com/wp-content/uploads/2025/09/2025.09.10-CA-Santa-Maria-Hiring-Event.jpg
END:VEVENT
BEGIN:VEVENT
DTSTART;TZID=America/Los_Angeles:20250910T100000
DTEND;TZID=America/Los_Angeles:20250910T130000
DTSTAMP:20260424T143123
CREATED:20250913T074203Z
LAST-MODIFIED:20250913T093940Z
UID:14678-1757498400-1757509200@centerforautism.com
SUMMARY:Woodland Hills CA Hiring Event
DESCRIPTION:Kickstart your career in ABA therapy!\nCARD is hosting a Hiring Event in Woodland Hills for Behavior Technicians ? \n? September 10\n? 10:00 AM – 1:00 PM (PST)\n? 5959 Topanga Canyon Blvd\, Suite 125\, Woodland Hills\, CA \nWhy join CARD? \n✨ Paid training\, no experience required\n✨ Flexible scheduling\n✨ Opportunities to grow your career \nCome meet us and take the first step toward a meaningful career helping kids with autism thrive! ?
URL:https://centerforautism.com/event/woodland-hills-ca-hiring-event/
LOCATION:CARD Woodland Hills CA\, 5959 Topanga Canyon Blvd\, Suite 125\, Woodland Hills\, CA\, 91367\, United States
CATEGORIES:Recruiting
ATTACH;FMTTYPE=image/jpeg:https://centerforautism.com/wp-content/uploads/2025/09/2025.09.10-CA-Woodland-Hills-Hiring-Event.jpg
END:VEVENT
BEGIN:VEVENT
DTSTART;TZID=America/Los_Angeles:20250909T100000
DTEND;TZID=America/Los_Angeles:20250909T130000
DTSTAMP:20260424T143123
CREATED:20250913T073433Z
LAST-MODIFIED:20250913T093954Z
UID:14670-1757412000-1757422800@centerforautism.com
SUMMARY:Salinas CA Hiring Event
DESCRIPTION:? Salinas\, we’re hiring!\nJoin CARD at our Hiring Event to learn how you can start a rewarding career as a Behavior Technician ? \n? September 9\n? 10:00 AM\n? 333 Abbot St.\, Salinas\, CA 93901 \n✨ Paid training (no experience required)\n✨ Flexible schedules\n✨ Career growth in ABA therapy \nMeet our team and apply on the spot! ?
URL:https://centerforautism.com/event/salinas-ca-hiring-event/
LOCATION:CARD Salinas CA\, 333 Abbott St.\, Salinas\, CA\, 93901\, United States
CATEGORIES:Recruiting
ATTACH;FMTTYPE=image/jpeg:https://centerforautism.com/wp-content/uploads/2025/09/2025.09.09-CA-Salinas-Hiring-Event.jpg
END:VEVENT
BEGIN:VEVENT
DTSTART;TZID=America/Los_Angeles:20250903T100000
DTEND;TZID=America/Los_Angeles:20250903T140000
DTSTAMP:20260424T143123
CREATED:20250913T094235Z
LAST-MODIFIED:20250913T094235Z
UID:14739-1756893600-1756908000@centerforautism.com
SUMMARY:San Luis Obispo CA Hiring Event
DESCRIPTION:? San Luis Obispo\, we’re hiring!\nJoin CARD at our Hiring Event and learn how you can start a rewarding career as a Behavior Technician ? \n? September 3\n? 10:00 AM\n? 1212 Marsh St.\, Suite 1\, San Luis Obispo\, CA \n✨ Paid training\n✨ Flexible schedules\n✨ Career growth opportunities
URL:https://centerforautism.com/event/san-luis-obispo-ca-hiring-event/
LOCATION:CARD San Luis Obispo CA\, 1212 Marsh Street\, Suite 1\, San Luis Obispo\, CA\, 93401\, United States
CATEGORIES:Recruiting
ATTACH;FMTTYPE=image/jpeg:https://centerforautism.com/wp-content/uploads/2025/09/2025.09.03-CA-San-Luis-Obispo-Hiring-Event.jpg
END:VEVENT
END:VCALENDAR